BEGIN:VCALENDAR
VERSION:2.0
PRODID:-//wp-events-plugin.com//7.2.3.1//EN
TZID:Europe/Warsaw
X-WR-TIMEZONE:Europe/Warsaw
BEGIN:VEVENT
UID:36182@night4u.pl
DTSTART;TZID=Europe/Warsaw:20191212T200000
DTEND;TZID=Europe/Warsaw:20191212T230000
DTSTAMP:20200401T080455Z
URL:https://night4u.pl/wydarzenia/adrianna-styrcz-iglaki/
SUMMARY:Adrianna Styrcz &amp\; Iglaki
DESCRIPTION:Adrianna Styrcz to wrocławska wokalistka\, która karierę roz
 poczynała w duecie Sinusoidal wraz z Michałem Siwiakiem. Ich album „Ou
 t Of The Wall” okazał się jednym z ciekawszych debiutów 2011 roku. Na
  płytę składała się muzyka elektroniczna\, łącząca ambient i trip-
 hop\, wzbogacona intrygująca barwą głosu Adrianny. W tym czasie współ
 pracę zaproponował im sam Tricky z Massive Attack\, co zaowocowało dwom
 a wspólnymi singlami. Artystka brała także udział w nagraniach płyty 
 „Punkt” Eklektik Session współpracując z Rolim Mosimannem. Następn
 ie rozpoczęła się kooperacja z Mateuszem Górnym – Gooralem. Tworzyli
  też razem klubowy duet CUDA\, którego trzeci sinigiel „Psychodrome”
  wywołał spore zamieszanie w sieci tuż przed końcem roku. Występował
 a na najważniejszych festiwalach muzycznych w Polsce i za granicą. \n\nP
 odczas 37. Przeglądu Piosenki Aktorskiej we Wrocławiu otrzymała nagrod
 ę specjalną Stowarzyszenia Autorów ZAiKS. Szerszej publiczności dała 
 się poznać występując w programie X-Factor. Obecnie wraz z Piotrem Ły
 szkiewiczem pracuje nad solowym albumem pt. „Nie Kojarzę”\, który ma
  się ukazać na początku jesieni. Jako zapowiedź nowego wydawnictwa w g
 rudniu 2018 ukazał się singiel oraz klip pt. „Tapczan”.\n\nSkład ze
 społu:\n\nPiotr Łyszkiewicz\n\nDarek Jughan\n\nKarol Jagieła\n\nMichał
  Lange\n\n\nWSTĘP 25 zł
ATTACH;FMTTYPE=image/jpeg:https://night4u.pl/wp-content/uploads/2019/11/97
 657_image_74437268_2483459695024920_6081489454218870784_o.jpg
CATEGORIES:małopolskie
LOCATION:Klub Alchemia\, ul. Estery 5 (róg Estery i Placu Nowego) 31-056 K
 raków\, Kraków\, 31-056\, Poland
GEO:50.052061;19.944912
X-APPLE-STRUCTURED-LOCATION;VALUE=URI;X-ADDRESS=ul. Estery 5 (róg Estery i
  Placu Nowego) 31-056 Kraków\, Kraków\, 31-056\, Poland;X-APPLE-RADIUS=1
 00;X-TITLE=Klub Alchemia:geo:50.052061,19.944912
END:VEVENT
BEGIN:VTIMEZONE
TZID:Europe/Warsaw
X-LIC-LOCATION:Europe/Warsaw
BEGIN:STANDARD
DTSTART:20191027T020000
TZOFFSETFROM:+0200
TZOFFSETTO:+0100
TZNAME:CET
END:STANDARD
END:VTIMEZONE
END:VCALENDAR