BEGIN:VCALENDAR
VERSION:2.0
PRODID:-//wp-events-plugin.com//7.2.3.1//EN
TZID:Europe/Warsaw
X-WR-TIMEZONE:Europe/Warsaw
BEGIN:VEVENT
UID:28517@night4u.pl
DTSTART;TZID=Europe/Warsaw:20191012T223000
DTEND;TZID=Europe/Warsaw:20191013T073000
DTSTAMP:20191015T104346Z
URL:https://night4u.pl/wydarzenia/africasound-x-prozak-2-0-3/
SUMMARY:AFRICAsound x Prozak 2.0
DESCRIPTION:Na zewnątrz coraz chłodniej\, więc tego dnia przeniesiemy si
 ę do gorącej afryki by powspominać gorące dni lata! Swoją selekcję i
 nspirowaną etniczną afryką prezentować będzie Senthia\, wspierana prz
 ez Matthew Ka 💦\n\n[-2] AFRICAsound\nSenthia\nMatthew Ka\n\nDo 23:00: w
 ejście FREE dla osób “biorących udział” w wydarzeniu.\nPo 23:00: 1
 0/ 20 PLN.\n\n---\n\nIt’s getting colder outside\, so that date we’ll 
 travel to warm Africa to have some of that hot\, summer sun! This time it
 ’ll be hosted by Senthia\, along with invaluable Matthew Ka 💦\n\n[-2]
  AFRICAsound\nSenthia\nMatthew Ka\n\nBy 11:00pm: FREE entry for Facebook 
 “going” list.\nAfter 11:00pm: 10/ 20 PLN.
ATTACH;FMTTYPE=image/jpeg:https://night4u.pl/wp-content/uploads/2019/09/66
 015_image_71513419_2518600344867366_9124441274827407360_o.jpg
CATEGORIES:małopolskie
LOCATION:Prozak 2.0\, Plac Dominikański 6\, Kraków\, 31-032\, Poland
GEO:50.058986;19.938203
X-APPLE-STRUCTURED-LOCATION;VALUE=URI;X-ADDRESS=Plac Dominikański 6\, Krak
 ów\, 31-032\, Poland;X-APPLE-RADIUS=100;X-TITLE=Prozak 2.0:geo:50.058986,
 19.938203
END:VEVENT
BEGIN:VTIMEZONE
TZID:Europe/Warsaw
X-LIC-LOCATION:Europe/Warsaw
BEGIN:DAYLIGHT
DTSTART:20190331T030000
TZOFFSETFROM:+0100
TZOFFSETTO:+0200
TZNAME:CEST
END:DAYLIGHT
END:VTIMEZONE
END:VCALENDAR