BEGIN:VCALENDAR
VERSION:2.0
PRODID:-//wp-events-plugin.com//7.2.3.1//EN
TZID:Europe/Warsaw
X-WR-TIMEZONE:Europe/Warsaw
BEGIN:VEVENT
UID:34459@night4u.pl
DTSTART;TZID=Europe/Warsaw:20191122T223000
DTEND;TZID=Europe/Warsaw:20191123T070000
DTSTAMP:20191119T105041Z
URL:https://night4u.pl/wydarzenia/africasound-x-prozak-2-0-4/
SUMMARY:AFRICAsound x Prozak 2.0
DESCRIPTION:Na zewnątrz coraz chłodniej\, więc tego dnia przeniesiemy si
 ę do gorącej afryki by powspominać gorące dni lata! Swoją selekcję i
 nspirowaną etniczną afryką prezentować będzie Discox\, wspierana prze
 z Matthew Ka 💦\n\n[-2] AFRICAsound\nDiscox\nMatthew Ka\n\nDo 23:00: wej
 ście FREE dla osób “biorących udział” w wydarzeniu.\nPo 23:00: 10/
  20 PLN.\n\n---\n\nIt’s getting colder outside\, so that date we’ll tr
 avel to warm Africa to have some of that hot\, summer sun! This time it’
 ll be hosted by Discox\, along with invaluable Matthew Ka 💦\n\n[-2] AFR
 ICAsound\nDiscox\nMatthew Ka\n\nBy 11:00pm: FREE entry for Facebook “goi
 ng” list.\nAfter 11:00pm: 10/ 20 PLN.
ATTACH;FMTTYPE=image/jpeg:https://night4u.pl/wp-content/uploads/2019/11/89
 150_image_75241029_2591057920954941_301368011095277568_o.jpg
CATEGORIES:małopolskie
LOCATION:Prozak 2.0\, Plac Dominikański 6\, Kraków\, 31-032\, Poland
GEO:50.058986;19.938203
X-APPLE-STRUCTURED-LOCATION;VALUE=URI;X-ADDRESS=Plac Dominikański 6\, Krak
 ów\, 31-032\, Poland;X-APPLE-RADIUS=100;X-TITLE=Prozak 2.0:geo:50.058986,
 19.938203
END:VEVENT
BEGIN:VTIMEZONE
TZID:Europe/Warsaw
X-LIC-LOCATION:Europe/Warsaw
BEGIN:STANDARD
DTSTART:20191027T020000
TZOFFSETFROM:+0200
TZOFFSETTO:+0100
TZNAME:CET
END:STANDARD
END:VTIMEZONE
END:VCALENDAR