BEGIN:VCALENDAR
VERSION:2.0
PRODID:-//wp-events-plugin.com//7.2.3.1//EN
TZID:Europe/Warsaw
X-WR-TIMEZONE:Europe/Warsaw
BEGIN:VEVENT
UID:43933@night4u.pl
DTSTART;TZID=Europe/Warsaw:20200207T213000
DTEND;TZID=Europe/Warsaw:20200208T070000
DTSTAMP:20200208T044725Z
URL:https://night4u.pl/wydarzenia/africasound-x-prozak-2-0-5/
SUMMARY:AFRICAsound x Prozak 2.0
DESCRIPTION:Na zewnątrz coraz chłodniej\, więc tego dnia przeniesiemy si
 ę do gorącej afryki by powspominać gorące dni lata! Swoją selekcję i
 nspirowaną etniczną afryką prezentować będzie Senthia\, wspierana prz
 ez Matthew Ka 💦\n\nPROMO 2.0 - do 22:30:\nŻubrówka 0.5l + Soft 1l = 5
 0zł\n\n[-2] AFRICAsound\nSenthia\nMatthew Ka\n\nDo 22:00: wejście FREE d
 la osób “biorących udział” w wydarzeniu.\nPo 22:00: 20/ 30 PLN.\n\n
 ---\n\nIt’s getting colder outside\, so that date we’ll travel to warm
  Africa to have some of that hot\, summer sun! This time it’ll be hosted
  by Senthia\, along with invaluable Matthew Ka 💦\n\nPROMO 2.0 - until 1
 0:30pm:\nŻubrówka 0.5l + Soft 1l = 50zł\n\n[-2] AFRICAsound\nSenthia\nM
 atthew Ka\n\nBy 10:00pm: FREE entry for Facebook “going” list.\nAfter 
 10:00pm: 20/ 30 PLN.
ATTACH;FMTTYPE=image/jpeg:https://night4u.pl/wp-content/uploads/2020/02/14
 1282_image_85015024_2812987992095265_6044440735611092992_n.jpg
CATEGORIES:małopolskie
LOCATION:Prozak 2.0\, Plac Dominikański 6\, Kraków\, 31-032\, Poland
GEO:50.058986;19.938203
X-APPLE-STRUCTURED-LOCATION;VALUE=URI;X-ADDRESS=Plac Dominikański 6\, Krak
 ów\, 31-032\, Poland;X-APPLE-RADIUS=100;X-TITLE=Prozak 2.0:geo:50.058986,
 19.938203
END:VEVENT
BEGIN:VTIMEZONE
TZID:Europe/Warsaw
X-LIC-LOCATION:Europe/Warsaw
BEGIN:STANDARD
DTSTART:20191027T020000
TZOFFSETFROM:+0200
TZOFFSETTO:+0100
TZNAME:CET
END:STANDARD
END:VTIMEZONE
END:VCALENDAR