BEGIN:VCALENDAR
VERSION:2.0
PRODID:-//wp-events-plugin.com//7.2.3.1//EN
TZID:Europe/Warsaw
X-WR-TIMEZONE:Europe/Warsaw
BEGIN:VEVENT
UID:6695@night4u.pl
DTSTART;TZID=Europe/Warsaw:20190216T223000
DTEND;TZID=Europe/Warsaw:20190217T073000
DTSTAMP:20190207T103626Z
URL:https://night4u.pl/wydarzenia/africasound-x-prozak-2-0/
SUMMARY:AFRICAsound x Prozak 2.0
DESCRIPTION:Na zewnątrz coraz chłodniej\, więc tego dnia przeniesiemy si
 ę do gorącej afryki by powspominać gorące dni lata! Swoją selekcję i
 nspirowaną etniczną afryką prezentować będą nasze dwie piękne rezyd
 entki: Meg i Senthia\, wspierane przez Matthew Ka ? \n\n[-2] AFRICAsound\n
 Meg\nSenthia\nMatthew Ka\n\nDo 23:00: wejście FREE dla osób “biorącyc
 h udział” w wydarzeniu.\nPo 23:00: 10/ 20 PLN.\n\n---\n\nIt’s getting
  colder outside\, so that date we’ll travel to warm Africa to have some 
 of that hot\, summer sun! This time we’ll be hosting two beautiful ladie
 s\, Meg and Senthia\, along with invaluable Matthew Ka ?\n\n[-2] AFRICAsou
 nd\nMeg\nSenthia\nMatthew Ka\n\nBy 11pm: FREE entry for Facebook “going
 ” list.\nAfter 11pm: 10/ 20 PLN.
ATTACH;FMTTYPE=image/jpeg:https://night4u.pl/wp-content/uploads/2019/02/19
 605_image_51246639_2137733072954097_4437516122387906560_o.jpg
CATEGORIES:małopolskie
LOCATION:Prozak 2.0\, Plac Dominikański 6\, Kraków\, 31-032\, Poland
GEO:50.058986;19.938203
X-APPLE-STRUCTURED-LOCATION;VALUE=URI;X-ADDRESS=Plac Dominikański 6\, Krak
 ów\, 31-032\, Poland;X-APPLE-RADIUS=100;X-TITLE=Prozak 2.0:geo:50.058986,
 19.938203
END:VEVENT
BEGIN:VTIMEZONE
TZID:Europe/Warsaw
X-LIC-LOCATION:Europe/Warsaw
BEGIN:STANDARD
DTSTART:20181028T020000
TZOFFSETFROM:+0200
TZOFFSETTO:+0100
TZNAME:CET
END:STANDARD
END:VTIMEZONE
END:VCALENDAR