BEGIN:VCALENDAR
VERSION:2.0
PRODID:-//wp-events-plugin.com//7.2.3.1//EN
TZID:Europe/Warsaw
X-WR-TIMEZONE:Europe/Warsaw
BEGIN:VEVENT
UID:19708@night4u.pl
DTSTART;TZID=Europe/Warsaw:20190706T220000
DTEND;TZID=Europe/Warsaw:20190707T040000
DTSTAMP:20190619T115220Z
URL:https://night4u.pl/wydarzenia/afroparty4-x-one-love-wroclaw/
SUMMARY:AfroParty#4 X One Love Wrocław
DESCRIPTION:On the first Saturday of July at One Love Music Club we're gonn
 a move to music vibes of the Dark Continent! ???\n\nAfrican drumbeat and h
 ot atmosphere will be provided by ??\nDj Suculento\nJoe Black\nMC.BERTO \n
 \nSpecially for you\, our top class bartenders will serve unical\, tropica
 l coctails! ??\n\nJuly 6th\, 2019 | 10PM | \n\nPierwszej soboty lipca serc
 e Afryki zabije w #NowymSercuMiasta! ?? ?\n\nAfrykańskie bębnienie i gor
 ąca atmosfera na parkiecie gwarantowane\, bo w podroż po muzycznych zaka
 markach Czarnego Lądu zabiorą nas niezastąpieni ??\nDj Suculento \nJoe 
 Black \nMC.BERTO \n\nJednak tej nocy\, nie tylko muzycznie przeniesiemy si
 ę na Czarny Ląd. Specjalnie dla Was\, nasi najwyższej klasy barmani bę
 dą serwować unikalne\, egzotyczne drinki! ??
ATTACH;FMTTYPE=image/jpeg:https://night4u.pl/wp-content/uploads/2019/06/47
 472_image_62017837_610810192766866_6516104260122312704_o.jpg
CATEGORIES:dolnośląskie
LOCATION:One Love Wrocław\, Ofiar Oświęcimskich 36\, Wroclaw\, 50-059\, 
 Poland
GEO:51.108;17.03431
X-APPLE-STRUCTURED-LOCATION;VALUE=URI;X-ADDRESS=Ofiar Oświęcimskich 36\, 
 Wroclaw\, 50-059\, Poland;X-APPLE-RADIUS=100;X-TITLE=One Love Wrocław:geo
 :51.108,17.03431
END:VEVENT
BEGIN:VTIMEZONE
TZID:Europe/Warsaw
X-LIC-LOCATION:Europe/Warsaw
BEGIN:DAYLIGHT
DTSTART:20190331T030000
TZOFFSETFROM:+0100
TZOFFSETTO:+0200
TZNAME:CEST
END:DAYLIGHT
END:VTIMEZONE
END:VCALENDAR