BEGIN:VCALENDAR
VERSION:2.0
PRODID:-//wp-events-plugin.com//7.2.3.1//EN
TZID:Europe/Warsaw
X-WR-TIMEZONE:Europe/Warsaw
BEGIN:VEVENT
UID:11733@night4u.pl
DTSTART;TZID=Europe/Warsaw:20190413T220000
DTEND;TZID=Europe/Warsaw:20190414T050000
DTSTAMP:20190403T193704Z
URL:https://night4u.pl/wydarzenia/after-bass-planet-vs-cherrys-bday-boom/
SUMMARY:After BASS Planet vs Cherry's Bday Boom
DESCRIPTION:Emocje po BASS PLANET  jeszcze nie zdążyły opaść a my spec
 jalnie dla Was jak co roku szykujemy kolejne wydarzenie ?\n\nJuż 13 kwiet
 nia (sobota) zapraszamy na oficjalny after BASS PLANET FESTIVAL połączon
 y z imprezą urodzinową naszego druha – CHERRY aka BREAKnTUNE\, która 
 to odbędzie się w naszym ulubionym szczecińskim klubie – Elefunk The 
 Club! \n\nBędą to 34 urodziny Cherry-ego i oczywiście mamy ogromną nad
 zieje na Wasze liczne przybycie :)\n\nTo będzie piękne Party ❤️❤
 ️❤️❤️\n\nSerdecznie zapraszamy:\nBASS PLANET Poland ?\n\nLineup:
 \n∆ MARTIN TELEMANN (Bass is Boss\, Superhouse - Berlin DE)\n∆ ELEK BO
 MMES (Lockstoff B\, Superhouse - Berlin DE)\n∆ MACASTER (Dirty Funk – 
 Kołobrzeg PL)\n∆ MARTIN SHAFT (WATM – Kołobrzeg PL)\n∆ CHERRY AKA 
 BREAKnTUNE (Dirty Funk – Szczecin PL)\n∆ EBOLA (History of Techno – 
 Poznan PL)\n∆ LUKE WEED SMOKER (Sick Rabbits Crew – Slubice PL)\n∆ D
 EAKALUKA (Dirty Funk – Szczecin)\n∆ SHOCKTECH (Szczecin PL)\n∆ CHRIS
  GREGG (Warszawa)\n∆ eMKa (Myślibórz PL)\n∆ ALEXSUNTHE’R  (Szczeci
 n PL)\n\n\n\nNajważniejsze informacje:\nData: 13.04.2019 (sobota)\nMiejsc
 e – Elefunk The Club\nWstęp: z biletami z BASS PLANET 2019 – 10 zł\,
  pozostali 15 zł ?\nStart: 22:00\nMuzyka: BASS MUSIC\, Breakbeat\, House\
 , Techno\, \n\nLinki:\nBass Planet: https://www.facebook.com/BassPlanetPL\
 nBASS PLANET: http://www.bassplanet.pl
ATTACH;FMTTYPE=image/jpeg:https://night4u.pl/wp-content/uploads/2019/04/30
 155_image_54728280_2193082314092065_1763396198871334912_o.jpg
CATEGORIES:zachodniopomorskie
LOCATION:Elefunk The Club\, pl. Żołnierza Polskiego 2\, Szczecin\, 70-551
 \, Poland
GEO:53.42819;14.55416
X-APPLE-STRUCTURED-LOCATION;VALUE=URI;X-ADDRESS=pl. Żołnierza Polskiego 2
 \, Szczecin\, 70-551\, Poland;X-APPLE-RADIUS=100;X-TITLE=Elefunk The Club:
 geo:53.42819,14.55416
END:VEVENT
BEGIN:VTIMEZONE
TZID:Europe/Warsaw
X-LIC-LOCATION:Europe/Warsaw
BEGIN:DAYLIGHT
DTSTART:20190331T030000
TZOFFSETFROM:+0100
TZOFFSETTO:+0200
TZNAME:CEST
END:DAYLIGHT
END:VTIMEZONE
END:VCALENDAR