BEGIN:VCALENDAR
VERSION:2.0
PRODID:-//wp-events-plugin.com//7.2.3.1//EN
TZID:Europe/Warsaw
X-WR-TIMEZONE:Europe/Warsaw
BEGIN:VEVENT
UID:34057@night4u.pl
DTSTART;TZID=Europe/Warsaw:20191102T220000
DTEND;TZID=Europe/Warsaw:20191103T050000
DTSTAMP:20191102T095006Z
URL:https://night4u.pl/wydarzenia/after-halloween-taawa-2-11/
SUMMARY:After Halloween @Taawa (2.11)
DESCRIPTION:-english below-\nW sobotę 2.11\, czyli tuż po Halloween🦇
 💀\, w środek długiego weekendu koniecznie przyjdźcie ze znajomymi na
  Kazimierz do Taawa Music Club przy Estery 18. Będzie wtedy przerażając
 o dobra impreza\, którą rozkręci niezawodny Dj NH+\, a towarzyszyć mu 
 będzie Grzegorz Malski 🥁 \, który da popis skilla na żywych bębnach
 ! \n\nTych co wyzioną ducha\, jeśli nie spróbują czegoś mocniejszego 
 na barze uspokajamy - będziecie w dobrych rękach\, które potrafią wycz
 arować piekielnie mocne drinki 👿 \;)\nMocne wrażenia gwarantowane 
 💣\n\n🕙 Start: 22:00\n📞 Rezerwacje: 608 503 080\n🚪 ul. Estery 1
 8 (tuż przy Placu Nowym)\n\nZapraszamy!\n\nOn Saturday (November 2)\, sho
 rtly after Halloween 🦇💀\, in the middle of a long weekend\, be sure 
 to come with your friends to Taawa Music Club at Krakowski Kazimierz (Este
 ry 18). We will have a terrifyingly good party which will be fired by reli
 able Dj NH+ and Grzegorz Malski 🥁 - he'll present an extraordinary show
  live on drums!\n\nWe calm those who always need something more specific a
 t the bar - you will be in good hands that can conjure hellishly strong dr
 inks. 👿 \;)\nStrong experience guaranteed! 💣
ATTACH;FMTTYPE=image/jpeg:https://night4u.pl/wp-content/uploads/2019/10/86
 970_image_74614888_3506081049403748_2881690577626202112_o.jpg
CATEGORIES:małopolskie
LOCATION:Taawa Music Club\, ul.Estery 18\, Kraków\, 31-056\, Poland
GEO:50.05147;19.94566
X-APPLE-STRUCTURED-LOCATION;VALUE=URI;X-ADDRESS=ul.Estery 18\, Kraków\, 31
 -056\, Poland;X-APPLE-RADIUS=100;X-TITLE=Taawa Music Club:geo:50.05147,19.
 94566
END:VEVENT
BEGIN:VTIMEZONE
TZID:Europe/Warsaw
X-LIC-LOCATION:Europe/Warsaw
BEGIN:STANDARD
DTSTART:20191027T020000
TZOFFSETFROM:+0200
TZOFFSETTO:+0100
TZNAME:CET
END:STANDARD
END:VTIMEZONE
END:VCALENDAR