BEGIN:VCALENDAR
VERSION:2.0
PRODID:-//wp-events-plugin.com//7.2.3.1//EN
TZID:Europe/Warsaw
X-WR-TIMEZONE:Europe/Warsaw
BEGIN:VEVENT
UID:9399@night4u.pl
DTSTART;TZID=Europe/Warsaw:20190316T210000
DTEND;TZID=Europe/Warsaw:20190317T050000
DTSTAMP:20190314T190627Z
URL:https://night4u.pl/wydarzenia/after-parties-claysteer-16-03-19/
SUMMARY:After Parties // Claysteer // 16.03.19
DESCRIPTION:Przed nami kolejny weekend w UltraViolet Exclusive Club Kielce 
 - w miejscu uwielbianym przez wszystkich wystawców! ?\nNajpiękniejsze wn
 ętrza\, świetna klubowa muzyka i profesjonalna obsługa naszych Gości.\
 nW sobotę zadba o Was Claysteer - spodziewajcie się doskonałej mieszank
 i klubowych rytmów ??\nWspierał go będzie dobrze wszystkim znany dr Mro
 czek \nCzekają na Was również niezapomniane atrakcje wizualne dzięki z
 mysłowym pokazom tanecznym od grupy Army Of Lovers - Erotic Dance Groupp 
 ??\n\nTego wieczoru\, wszystkie drogi prowadzą na Sienkiewicza 33! \nZapr
 aszamy ?\n\nSTART 21:00\nSelekcja 23+\nPanie: 10 zł\nPanowie: 20 zł\nRez
 erwacje: 518-820-320 \n\nKlub UltraViolet zastrzega sobie prawo do selekcj
 i Gości.
ATTACH;FMTTYPE=image/jpeg:https://night4u.pl/wp-content/uploads/2019/03/25
 395_image_54372141_2101333949913824_8188806151454851072_n.jpg
CATEGORIES:świętokrzyskie
LOCATION:UltraViolet - Exclusive Club\, ul. Sienkiewicza 33\, Kielce\, 25-0
 05\, Poland
GEO:50.87148;20.62637
X-APPLE-STRUCTURED-LOCATION;VALUE=URI;X-ADDRESS=ul. Sienkiewicza 33\, Kielc
 e\, 25-005\, Poland;X-APPLE-RADIUS=100;X-TITLE=UltraViolet - Exclusive Clu
 b:geo:50.87148,20.62637
END:VEVENT
BEGIN:VTIMEZONE
TZID:Europe/Warsaw
X-LIC-LOCATION:Europe/Warsaw
BEGIN:STANDARD
DTSTART:20181028T020000
TZOFFSETFROM:+0200
TZOFFSETTO:+0100
TZNAME:CET
END:STANDARD
END:VTIMEZONE
END:VCALENDAR