BEGIN:VCALENDAR
VERSION:2.0
PRODID:-//wp-events-plugin.com//7.2.3.1//EN
TZID:Europe/Warsaw
X-WR-TIMEZONE:Europe/Warsaw
BEGIN:VEVENT
UID:27846@night4u.pl
DTSTART;TZID=Europe/Warsaw:20191005T210000
DTEND;TZID=Europe/Warsaw:20191006T000000
DTSTAMP:20190916T211436Z
URL:https://night4u.pl/wydarzenia/after-party-po-10-leciu-w-dyskotece-wese
 le/
SUMMARY:After Party po 10-leciu w dyskotece "Wesele"
DESCRIPTION:Zostajecie w Gorzowie po maratonie 10-lecia???\nChcecie wspóln
 ie spędzić wieczór???\nZapraszam do dyskoteki "Wesele"!!!\nSpecjalnie d
 la miłośników Zumba Fitness:\ndo godz: 22:00 wstęp wolny\npo godz: 22:
 00 - 10 zł\nNie zwlekajcie  i rezerwujcie miejsca!!!\nDo 15 września pod
  numerem 791998805 na hasło "zumbafitnes2019".
CATEGORIES:lubuskie
LOCATION:Dyskoteka Wesele Gorzów Wielkopolski\, Obotrycka 9\, Gorzów Wiel
 kopolski\, 66-400\, Poland
GEO:52.73095;15.24143
X-APPLE-STRUCTURED-LOCATION;VALUE=URI;X-ADDRESS=Obotrycka 9\, Gorzów Wielk
 opolski\, 66-400\, Poland;X-APPLE-RADIUS=100;X-TITLE=Dyskoteka Wesele Gorz
 ów Wielkopolski:geo:52.73095,15.24143
END:VEVENT
BEGIN:VTIMEZONE
TZID:Europe/Warsaw
X-LIC-LOCATION:Europe/Warsaw
BEGIN:DAYLIGHT
DTSTART:20190331T030000
TZOFFSETFROM:+0100
TZOFFSETTO:+0200
TZNAME:CEST
END:DAYLIGHT
END:VTIMEZONE
END:VCALENDAR