BEGIN:VCALENDAR
VERSION:2.0
PRODID:-//wp-events-plugin.com//7.2.3.1//EN
TZID:Europe/Warsaw
X-WR-TIMEZONE:Europe/Warsaw
BEGIN:VEVENT
UID:26863@night4u.pl
DTSTART;TZID=Europe/Warsaw:20190911T220000
DTEND;TZID=Europe/Warsaw:20190912T030000
DTSTAMP:20190907T175959Z
URL:https://night4u.pl/wydarzenia/after-party-z-zespolem-proletaryat/
SUMMARY:After Party z zespołem Proletaryat
DESCRIPTION:11.09 o godz 22:00 zapraszamy wszyskich\, którzy kochają muzy
 kę kultowego zespołu PROLETARYAT i mają ochotę spędzić z nami i czł
 onkami zespołu niesmowity czas! Zespół swoim występem uświetni tegoro
 czne Winobranie\, a zaraz po koncercie spotka się z nami na After Party w
  FABRYCE! W klubie zagramy największe przeboje Proletaryatu\, a na ekrana
 ch pokażemy zdjęcia z koncertów. ZAPRASZAMY!
ATTACH;FMTTYPE=image/jpeg:https://night4u.pl/wp-content/uploads/2019/09/62
 631_image_69962080_508171463282814_4807010019969073152_n.jpg
CATEGORIES:lubuskie
LOCATION:Fabryka\, ul. Moniuszki 16\, Zielona Góra\, 65-001\, Poland
GEO:51.93424;15.50022
X-APPLE-STRUCTURED-LOCATION;VALUE=URI;X-ADDRESS=ul. Moniuszki 16\, Zielona 
 Góra\, 65-001\, Poland;X-APPLE-RADIUS=100;X-TITLE=Fabryka:geo:51.93424,15
 .50022
END:VEVENT
BEGIN:VTIMEZONE
TZID:Europe/Warsaw
X-LIC-LOCATION:Europe/Warsaw
BEGIN:DAYLIGHT
DTSTART:20190331T030000
TZOFFSETFROM:+0100
TZOFFSETTO:+0200
TZNAME:CEST
END:DAYLIGHT
END:VTIMEZONE
END:VCALENDAR