BEGIN:VCALENDAR
VERSION:2.0
PRODID:-//wp-events-plugin.com//7.2.3.1//EN
TZID:Europe/Warsaw
X-WR-TIMEZONE:Europe/Warsaw
BEGIN:VEVENT
UID:42026@night4u.pl
DTSTART;TZID=Europe/Warsaw:20200110T210000
DTEND;TZID=Europe/Warsaw:20200111T040000
DTSTAMP:20200109T172937Z
URL:https://night4u.pl/wydarzenia/after-work-%e2%98%85-stars-21/
SUMMARY:AFTER WORK ★ STARS
DESCRIPTION:Jeśli nie masz jeszcze planów na piątkowy wieczór\, mamy dl
 a Ciebie idealną propozycję! Promocje na koktajle i zamówienia butelkow
 e\, pozytywny klimat oraz najlepsze brzmienia podane podczas dobrego bauns
 u! Bądźcie tej nocy z nami! Parkietem zatrzęsą: DJ ROCCO oraz DJ MIKES
 Z\n\nAfter Work dedykujemy wszystkim miłośnikom dobrej muzyki! Nie zabra
 knie największych klasyków w nowych aranżacjach oraz dobrego rnb.\n\n
 ★ ★ ★\n\nWstęp do 23:00:\n- panie i panowie: FREE\,\n- karty "Star 
 of Stars": FREE (z osobą towarzyszącą)\,\n- karty "Queen of Stars": FRE
 E.\n\nWstęp od 23:00:\n- panie i panowie: 10 PLN\,\n- z legitymacją stud
 encką: FREE\n- karty "Star of Stars": FREE (z osobą towarzyszącą)\,\n-
  karty "Queen of Stars": FREE.\n\n★ ★ ★\n\nPamiętajcie o stroju\, b
 o jest selekcja. Nie trzeba się jej bać\, zresztą zerknijcie w nasze ga
 lerie\, żeby zobaczyć jak to od wewnątrz wygląda. Nie wymagamy kreacji
  wieczorowych ale schludny strój casualowy/klubowy jest wskazany ... to t
 ak\, żebyśmy wszyscy dobrze się czuli.\n\nMinimum wiekowe: 21 (lub legi
 tymacja studencka)\n\nStars Club &amp\; Lounge\nBulwar Filadelfijski 11\n8
 7-100 Toruń\n\nInternet: www.klubstars.pl\nE-mail: stars@klubstars.pl\n\n
 Rezerwacje (wyłącznie sms): +48 516857514\nInstagram: http://instagram.c
 om/klubstars
ATTACH;FMTTYPE=image/jpeg:https://night4u.pl/wp-content/uploads/2020/01/13
 2544_image_81424741_1288603504673759_6404997978775355392_o.jpg
CATEGORIES:kujawsko-pomorskie
LOCATION:Klub Stars\, Bulwar Filadelfijski 11\, Torun\, 87-100\, Poland
GEO:53.007579;18.598323
X-APPLE-STRUCTURED-LOCATION;VALUE=URI;X-ADDRESS=Bulwar Filadelfijski 11\, T
 orun\, 87-100\, Poland;X-APPLE-RADIUS=100;X-TITLE=Klub Stars:geo:53.007579
 ,18.598323
END:VEVENT
BEGIN:VTIMEZONE
TZID:Europe/Warsaw
X-LIC-LOCATION:Europe/Warsaw
BEGIN:STANDARD
DTSTART:20191027T020000
TZOFFSETFROM:+0200
TZOFFSETTO:+0100
TZNAME:CET
END:STANDARD
END:VTIMEZONE
END:VCALENDAR