BEGIN:VCALENDAR
VERSION:2.0
PRODID:-//wp-events-plugin.com//7.2.3.1//EN
TZID:Europe/Warsaw
X-WR-TIMEZONE:Europe/Warsaw
BEGIN:VEVENT
UID:21274@night4u.pl
DTSTART;TZID=Europe/Warsaw:20190705T210000
DTEND;TZID=Europe/Warsaw:20190706T040000
DTSTAMP:20190705T031800Z
URL:https://night4u.pl/wydarzenia/after-work-%e2%98%85-stars-9/
SUMMARY:AFTER WORK ★ STARS
DESCRIPTION:Jeśli jeszcze nie wiesz jak spędzisz PIĄTEK PO PRACY mamy dl
 a Ciebie idealną propozycję. Co powiesz na Oldschool Jam czyli najlepsze
  muzyczne rytmy\, promocję na koktajle i zamówienia butelkowe oraz wyją
 tkowy klimat? Spodziewajcie się dobrego baunsu oraz najlepszych muzycznyc
 h klasyków. Za gramofonami DJ ADAM POPA i DJ BROSE!!\n\nJesteście gotowi
  na prawdziwy Oldschool dedykowany wszystkim miłośnikom klasycznego brzm
 ienia w odświeżonym wydaniu? Nie zabraknie największych przebojów w no
 wych aranżacjach oraz dobrego rnb.\n\n\n★ ★ ★\n\nNOWA KARTA - NOWE 
 STAŁE PROMOCJE!\n\n★ ★ ★\n\nWstęp do 23:00:\n- panie i panowie: FR
 EE\,\n- karty "Star of Stars": FREE (z osobą towarzyszącą)\,\n- karty "
 Queen of Stars": FREE.\n\nWstęp od 23:00:\n- panie i panowie: 10 PLN\,\n-
  z legitymacją studencką: FREE\n- karty "Star of Stars": FREE (z osobą 
 towarzyszącą)\,\n- karty "Queen of Stars": FREE.\n\n★ ★ ★\n\nPami
 ętajcie o stroju\, bo jest selekcja. Nie trzeba się jej bać\, zresztą 
 zerknijcie w nasze galerie\, żeby zobaczyć jak to od wewnątrz wygląda.
  Nie wymagamy kreacji wieczorowych ale schludny strój casualowy/klubowy j
 est wskazany ... to tak\, żebyśmy wszyscy dobrze się czuli.\n\nMinimum 
 wiekowe: 21 (lub legitymacja studencka)\n\nStars Club & Lounge\nBulwar Fil
 adelfijski 11\n87-100 Toruń\n\nInternet: www.klubstars.pl\nE-mail: stars@
 klubstars.pl\n\nRezerwacje: +48 516857514\nMenu: http://menu.klubstars.pl/
 \nWnętrza: http://panorama.klubstars.pl/
ATTACH;FMTTYPE=image/jpeg:https://night4u.pl/wp-content/uploads/2019/07/50
 725_image_66143271_1128442410689870_9075538339108487168_o.jpg
CATEGORIES:kujawsko-pomorskie
LOCATION:Klub Stars\, Bulwar Filadelfijski 11\, Torun\, 87-100\, Poland
GEO:53.007579;18.598323
X-APPLE-STRUCTURED-LOCATION;VALUE=URI;X-ADDRESS=Bulwar Filadelfijski 11\, T
 orun\, 87-100\, Poland;X-APPLE-RADIUS=100;X-TITLE=Klub Stars:geo:53.007579
 ,18.598323
END:VEVENT
BEGIN:VTIMEZONE
TZID:Europe/Warsaw
X-LIC-LOCATION:Europe/Warsaw
BEGIN:DAYLIGHT
DTSTART:20190331T030000
TZOFFSETFROM:+0100
TZOFFSETTO:+0200
TZNAME:CEST
END:DAYLIGHT
END:VTIMEZONE
END:VCALENDAR