BEGIN:VCALENDAR
VERSION:2.0
PRODID:-//wp-events-plugin.com//7.2.3.1//EN
TZID:Europe/Warsaw
X-WR-TIMEZONE:Europe/Warsaw
BEGIN:VEVENT
UID:40253@night4u.pl
DTSTART;TZID=Europe/Warsaw:20191220T220000
DTEND;TZID=Europe/Warsaw:20191221T043000
DTSTAMP:20191220T103244Z
URL:https://night4u.pl/wydarzenia/after-work-ladies-first-3/
SUMMARY:After Work - Ladies First!
DESCRIPTION:Pamiętajcie\, że tydzień potrafi naprawdę szybko minąć. C
 ierpliwie poczekaj na piątek i daj się porwać zabawie!\n#AfterWork #Lad
 iesNight\n\nCo tydzień w tym dniu pozytywnie zaskakujemy płeć piękną 
 oraz szczecińskie firmy. Za sterami staną nasi rezydenci - ciepłe\, tan
 eczne i housowe brzmienia remiksują z waszymi ulubionymi hitami R'n'B\, t
 ak aby nikt nie stał obojętnie!\n\nNASZE PIĄTKOWE PROMOCJE:\n\nLadies F
 irst\, czyli darmowy wstęp dla Pań przez całą noc! \n\nPromocja dla fi
 rm: darmowa loża oraz wejście dla całej grupy przy wcześniejszej rezer
 wacji. Prosimy kontaktować się z Managerem. \n\nPartner cyklu imprez: Pl
 atinum Gym\n\nPIĄTKI/FRIDAYS\n13/12/19\n\n*WSTĘP DLA PANÓW W CENIE 20 Z
 Ł OD OSOBY. \n(w lokalu obowiązuje selekcja)\n\nMUSIC:\n-house-nudisco-f
 unky-classics 80\,90s-\n\nZagra:\nHOSTER - rezydent klubu (Mariusz Kozłow
 ski)\n\nrezerwacja: \nloża/stolik w cenie 150\,00 PLN - cała kwota do wy
 dania u kelnerki\n*promocje i rabaty dla firm - szczegóły: info@greyclub
 .pl\n\nPOLECAMY NASZE NOWE PAKIETY NA PIĄTKI:\n1. wódka Sobieski 0\,7 i 
 1l napoju w cenie 125\,00 zł. \n2. whisky Johnny Walker Red Label 0\,7 i 
 1l napoju w cenie 185\,00 zł. \n3. rum Captain Morgan 0\,7 i 1l napoju w 
 cenie 185\,00 zł. \n4. gin Gordon's 0\,7 i 1l napoju w cenie 185\,00 zł.
  \n\nKONTAKT/REZERWACJE: + 48 666 12 64 64
ATTACH;FMTTYPE=image/jpeg:https://night4u.pl/wp-content/uploads/2019/12/12
 1421_image_78607731_2897666136911199_7983901624064016384_o.jpg
CATEGORIES:zachodniopomorskie
END:VEVENT
BEGIN:VTIMEZONE
TZID:Europe/Warsaw
X-LIC-LOCATION:Europe/Warsaw
BEGIN:STANDARD
DTSTART:20191027T020000
TZOFFSETFROM:+0200
TZOFFSETTO:+0100
TZNAME:CET
END:STANDARD
END:VTIMEZONE
END:VCALENDAR