BEGIN:VCALENDAR
VERSION:2.0
PRODID:-//wp-events-plugin.com//7.2.3.1//EN
TZID:Europe/Warsaw
X-WR-TIMEZONE:Europe/Warsaw
BEGIN:VEVENT
UID:33404@night4u.pl
DTSTART;TZID=Europe/Warsaw:20191123T220000
DTEND;TZID=Europe/Warsaw:20191124T010000
DTSTAMP:20191119T104905Z
URL:https://night4u.pl/wydarzenia/afterparty-po-grafconf-2019/
SUMMARY:Afterparty po GrafConf 2019
DESCRIPTION:Afterparty po konferencji GrafConf 2019. \nImpreza zamknięta\,
  wyłącznie dla uczestników.
ATTACH;FMTTYPE=image/jpeg:https://night4u.pl/wp-content/uploads/2019/10/82
 924_image_72900240_776488222787184_4375571982331150336_o.jpg
CATEGORIES:kujawsko-pomorskie
LOCATION:Centrum Kulturalno-Kongresowe Jordanki\, Al. Solidarnosci 3\, Toru
 n\, 87-100\, Poland
GEO:53.014202;18.602514
X-APPLE-STRUCTURED-LOCATION;VALUE=URI;X-ADDRESS=Al. Solidarnosci 3\, Torun\
 , 87-100\, Poland;X-APPLE-RADIUS=100;X-TITLE=Centrum Kulturalno-Kongresowe
  Jordanki:geo:53.014202,18.602514
END:VEVENT
BEGIN:VTIMEZONE
TZID:Europe/Warsaw
X-LIC-LOCATION:Europe/Warsaw
BEGIN:STANDARD
DTSTART:20191027T020000
TZOFFSETFROM:+0200
TZOFFSETTO:+0100
TZNAME:CET
END:STANDARD
END:VTIMEZONE
END:VCALENDAR