BEGIN:VCALENDAR
VERSION:2.0
PRODID:-//wp-events-plugin.com//7.2.3.1//EN
TZID:Europe/Warsaw
X-WR-TIMEZONE:Europe/Warsaw
BEGIN:VEVENT
UID:48355@night4u.pl
DTSTART;TZID=Europe/Warsaw:20200329T190000
DTEND;TZID=Europe/Warsaw:20200329T210000
DTSTAMP:20200323T051701Z
URL:https://night4u.pl/wydarzenia/akademia-mody-agh/
SUMMARY:Akademia Mody AGH 2020
DESCRIPTION:Po raz pierwszy na naszej Uczelni... 😮\nMamy wielką przyjem
 ność zaprosić Was na coś\, czego jeszcze u nas nie było! 🤩\nPierws
 zy w historii Akademia Górniczo-Hutnicza w Krakowie pokaz mody - Akademia
  Mody AGH! 💚🖤❤️\n\nOderwijcie się na chwilę od codzienności. 
 Przyjdźcie i zobaczcie sami\, jak Wasze koleżanki i koledzy radzą sobie
  na wielkim wybiegu! 💁🏻‍♀️💁🏻‍♂️\n\n➡️ Kiedy? 2
 9 marca 2020\, start godzina 19:00 \n➡️ Gdzie? Klub Studio\n➡️ Wej
 ście? Darmowe bilety  do nabycia już wkrótce (ilość miejsc ograniczon
 a). \n\nReżyser i choreograf\, a także współorganizator Pokazu Mody - 
 Iwona Radwan-Sado. \n\nJuż wkrótce zdradzimy Wam więcej informacji! Śl
 edźcie wydarzenie na bieżąco! 😍
ATTACH;FMTTYPE=image/jpeg:https://night4u.pl/wp-content/uploads/2020/03/16
 4940_image_89775273_2864295073608571_7253912047379808256_n.jpg
CATEGORIES:małopolskie
LOCATION:Klub Studio\, Budryka 4\, Kraków\, 30-072\, Poland
GEO:50.068057;19.908264
X-APPLE-STRUCTURED-LOCATION;VALUE=URI;X-ADDRESS=Budryka 4\, Kraków\, 30-07
 2\, Poland;X-APPLE-RADIUS=100;X-TITLE=Klub Studio:geo:50.068057,19.908264
END:VEVENT
BEGIN:VTIMEZONE
TZID:Europe/Warsaw
X-LIC-LOCATION:Europe/Warsaw
BEGIN:DAYLIGHT
DTSTART:20200329T030000
TZOFFSETFROM:+0100
TZOFFSETTO:+0200
TZNAME:CEST
END:DAYLIGHT
END:VTIMEZONE
END:VCALENDAR