BEGIN:VCALENDAR
VERSION:2.0
PRODID:-//wp-events-plugin.com//7.2.3.1//EN
TZID:Europe/Warsaw
X-WR-TIMEZONE:Europe/Warsaw
BEGIN:VEVENT
UID:26852@night4u.pl
DTSTART;TZID=Europe/Warsaw:20190922T110000
DTEND;TZID=Europe/Warsaw:20190922T200000
DTSTAMP:20190907T175907Z
URL:https://night4u.pl/wydarzenia/akcja-poruszenie8/
SUMMARY:Akcja.Poruszenie!8
DESCRIPTION:Już po raz 8\, zapraszamy na Akcję.Poruszenie!. Tym razem w p
 rogramie #mecz Polska-Włochy\, na murawie zmierzą się reprezentacje art
 ystów obu państw. Ponadto czekają liczne animacje klubów sportowych\, 
 dmuchańce\, a na zakończenie - mecz piłki ręcznej KPR Legionowo - AZS 
 UJK Kielce
ATTACH;FMTTYPE=image/jpeg:https://night4u.pl/wp-content/uploads/2019/09/62
 603_image_70120367_1462413857230141_8622905157555847168_n.jpg
CATEGORIES:mazowieckie
LOCATION:Legionowo Porusza\, ul. Piłsudskiego 41\, Legionowo\, 05-120\, Po
 land
GEO:52.39517;20.93131
X-APPLE-STRUCTURED-LOCATION;VALUE=URI;X-ADDRESS=ul. Piłsudskiego 41\, Legi
 onowo\, 05-120\, Poland;X-APPLE-RADIUS=100;X-TITLE=Legionowo Porusza:geo:5
 2.39517,20.93131
END:VEVENT
BEGIN:VTIMEZONE
TZID:Europe/Warsaw
X-LIC-LOCATION:Europe/Warsaw
BEGIN:DAYLIGHT
DTSTART:20190331T030000
TZOFFSETFROM:+0100
TZOFFSETTO:+0200
TZNAME:CEST
END:DAYLIGHT
END:VTIMEZONE
END:VCALENDAR