BEGIN:VCALENDAR
VERSION:2.0
PRODID:-//wp-events-plugin.com//7.2.3.1//EN
TZID:Europe/Warsaw
X-WR-TIMEZONE:Europe/Warsaw
BEGIN:VEVENT
UID:4932@night4u.pl
DTSTART;TZID=Europe/Warsaw:20190212T203000
DTEND;TZID=Europe/Warsaw:20190212T233000
DTSTAMP:20190122T193636Z
URL:https://night4u.pl/wydarzenia/akustyczny-wtorek-k-biernacka-w-konopko-
 m-urszulak/
SUMMARY:Akustyczny wtorek / K Biernacka\, W Konopko\, M Urszulak
DESCRIPTION:Zapraszamy na kolejną odsłonę akustycznego wtorku ! ? Tym ra
 zem z potrójną energią\, muzycznie zadba o wszystkich gości Nietoty wo
 kalistka Karolina Biernacka\, której na scenie towarzyszyć będą pianis
 ta Wojciech Konopko oraz perkusista Marcin Urszulak. ???\nPrzed samymi Wal
 entynkami rozpieszczą słuchaczy pięknymi piosenkami o miłości\, ale b
 ez mdłości ? energetyczne utwory i soul'owe rozbujanie to coś\, co nies
 ie ich na scenie ! ?\nNie może Was zabraknąć ❤\n\n-------------------
 ------------------------------------------------\nhttps://www.facebook.com
 /karolinabiernackamusic/
ATTACH;FMTTYPE=image/jpeg:https://night4u.pl/wp-content/uploads/2019/01/15
 693_image_50306232_2123634797679401_6151251310927675392_o.jpg
CATEGORIES:dolnośląskie
LOCATION:Nietota\, ul.Kazimierza Wielkiego 50\, Wroclaw\, 50-078\, Poland
GEO:51.107699;17.031693
X-APPLE-STRUCTURED-LOCATION;VALUE=URI;X-ADDRESS=ul.Kazimierza Wielkiego 50\
 , Wroclaw\, 50-078\, Poland;X-APPLE-RADIUS=100;X-TITLE=Nietota:geo:51.1076
 99,17.031693
END:VEVENT
BEGIN:VTIMEZONE
TZID:Europe/Warsaw
X-LIC-LOCATION:Europe/Warsaw
BEGIN:STANDARD
DTSTART:20181028T020000
TZOFFSETFROM:+0200
TZOFFSETTO:+0100
TZNAME:CET
END:STANDARD
END:VTIMEZONE
END:VCALENDAR