BEGIN:VCALENDAR
VERSION:2.0
PRODID:-//wp-events-plugin.com//7.2.3.1//EN
TZID:Europe/Warsaw
X-WR-TIMEZONE:Europe/Warsaw
BEGIN:VEVENT
UID:32777@night4u.pl
DTSTART;TZID=Europe/Warsaw:20191029T200000
DTEND;TZID=Europe/Warsaw:20191029T230000
DTSTAMP:20200401T081148Z
URL:https://night4u.pl/wydarzenia/akustyczny-wtorek-natalia-szczypula-szym
 on-paduszynski-4/
SUMMARY:Akustyczny wtorek: Natalia Szczypuła &amp\; Szymon Paduszyński
DESCRIPTION:29 października akustyczny wtorek należał będzie do Natalii
  Szczypuły i Szymona Paduszyńskiego\, który zagra  na gitarze – wirtu
 ozersko\, urzekająco i pięknie\, co do tego nie ma najmniejszych wątpli
 wości! Będzie\, jazzowo\, soulowo\, groove’ovo\, zaskakująco i wyjąt
 kowo\, bo z Natalią i Szymonem nie może być inaczej. Komu potrzebna jes
 t dawka pozytywnej energii i muzycznego zachwytu\, ten musi być :) ! Zapr
 aszamy.\n\nNatalia Szczypuła – wokal \nSzymon Paduszyński – gitara
ATTACH;FMTTYPE=image/jpeg:https://night4u.pl/wp-content/uploads/2019/10/80
 066_image_72746313_2567739156602294_3758400162741878784_o.jpg
CATEGORIES:dolnośląskie
LOCATION:Nietota\, ul.Kazimierza Wielkiego 50\, Wroclaw\, 50-078\, Poland
GEO:51.107699;17.031693
X-APPLE-STRUCTURED-LOCATION;VALUE=URI;X-ADDRESS=ul.Kazimierza Wielkiego 50\
 , Wroclaw\, 50-078\, Poland;X-APPLE-RADIUS=100;X-TITLE=Nietota:geo:51.1076
 99,17.031693
END:VEVENT
BEGIN:VTIMEZONE
TZID:Europe/Warsaw
X-LIC-LOCATION:Europe/Warsaw
BEGIN:STANDARD
DTSTART:20191027T020000
TZOFFSETFROM:+0200
TZOFFSETTO:+0100
TZNAME:CET
END:STANDARD
END:VTIMEZONE
END:VCALENDAR