BEGIN:VCALENDAR
VERSION:2.0
PRODID:-//wp-events-plugin.com//7.2.3.1//EN
TZID:Europe/Warsaw
X-WR-TIMEZONE:Europe/Warsaw
BEGIN:VEVENT
UID:1480@night4u.pl
DTSTART;TZID=Europe/Warsaw:20190108T203000
DTEND;TZID=Europe/Warsaw:20190108T233000
DTSTAMP:20181228T235326Z
URL:https://night4u.pl/wydarzenia/akustyczny-wtorek-paulina-golebiowska-i-
 lukasz-szymanski/
SUMMARY:Akustyczny wtorek / Paulina Gołębiowska i Łukasz Szymański
DESCRIPTION:Zapraszamy bardzo serdecznie na wieczór pełen niezapomnianych
  emocji! Usłyszycie piosenki wspaniałych artystów: India Arie\, Stevie 
 Wonder\, Amy Winehouse\, Jessie Ware a to wszystko w wyjątkowych\, akusty
 cznych aranżacjach! W świat nastrojowych\, ale i energetycznych klimató
 w wprowadza Was: Paulina Gołębiowska i Łukasz Szymański! Przybądźcie
  i stwórzcie z nami wyjątkowy scenariusz tego wieczoru! ?
ATTACH;FMTTYPE=image/jpeg:https://night4u.pl/wp-content/uploads/2018/12/68
 53_image_48428141_2088469001195981_5379141144590417920_o.jpg
CATEGORIES:dolnośląskie
LOCATION:Nietota\, ul.Kazimierza Wielkiego 50\, Wroclaw\, 50-078\, Poland
GEO:51.107699;17.031693
X-APPLE-STRUCTURED-LOCATION;VALUE=URI;X-ADDRESS=ul.Kazimierza Wielkiego 50\
 , Wroclaw\, 50-078\, Poland;X-APPLE-RADIUS=100;X-TITLE=Nietota:geo:51.1076
 99,17.031693
END:VEVENT
BEGIN:VTIMEZONE
TZID:Europe/Warsaw
X-LIC-LOCATION:Europe/Warsaw
BEGIN:STANDARD
DTSTART:20181028T020000
TZOFFSETFROM:+0200
TZOFFSETTO:+0100
TZNAME:CET
END:STANDARD
END:VTIMEZONE
END:VCALENDAR