BEGIN:VCALENDAR
VERSION:2.0
PRODID:-//wp-events-plugin.com//7.2.3.1//EN
TZID:Europe/Warsaw
X-WR-TIMEZONE:Europe/Warsaw
BEGIN:VEVENT
UID:31272@night4u.pl
DTSTART;TZID=Europe/Warsaw:20191015T203000
DTEND;TZID=Europe/Warsaw:20191015T233000
DTSTAMP:20191009T200719Z
URL:https://night4u.pl/wydarzenia/akustyczny-wtorek-paulina-golebiowska-sz
 ymon-gmerek/
SUMMARY:Akustyczny wtorek: Paulina Gołębiowska & Szymon Gmerek
DESCRIPTION:Szymon Gmerek i Paulina Gołębiowska to duet współpracujący
  ze sobą już od wielu lat. Tym razem zapraszają serdecznie na wieczór 
 pełen nieśmiertelnych klasyków muzyki pop\, soul\, R&B!!! Nie zabraknie
  piosenek z repertuaru Stevie Wondera\, Michaela Jacksona\, Whitney Housto
 n\, Bruno Marsa!!! Będzie energetycznie choć akustycznie 😁😁😁 za
 praszamy serdecznie!!!
ATTACH;FMTTYPE=image/jpeg:https://night4u.pl/wp-content/uploads/2019/10/72
 691_image_71212927_2531745656868311_2001628465593319424_o.jpg
CATEGORIES:dolnośląskie
LOCATION:Nietota\, ul.Kazimierza Wielkiego 50\, Wroclaw\, 50-078\, Poland
GEO:51.107699;17.031693
X-APPLE-STRUCTURED-LOCATION;VALUE=URI;X-ADDRESS=ul.Kazimierza Wielkiego 50\
 , Wroclaw\, 50-078\, Poland;X-APPLE-RADIUS=100;X-TITLE=Nietota:geo:51.1076
 99,17.031693
END:VEVENT
BEGIN:VTIMEZONE
TZID:Europe/Warsaw
X-LIC-LOCATION:Europe/Warsaw
BEGIN:DAYLIGHT
DTSTART:20190331T030000
TZOFFSETFROM:+0100
TZOFFSETTO:+0200
TZNAME:CEST
END:DAYLIGHT
END:VTIMEZONE
END:VCALENDAR