BEGIN:VCALENDAR
VERSION:2.0
PRODID:-//wp-events-plugin.com//7.2.3.1//EN
TZID:Europe/Warsaw
X-WR-TIMEZONE:Europe/Warsaw
BEGIN:VEVENT
UID:22958@night4u.pl
DTSTART;TZID=Europe/Warsaw:20190915T200000
DTEND;TZID=Europe/Warsaw:20190915T220000
DTSTAMP:20190724T170156Z
URL:https://night4u.pl/wydarzenia/alameda-5-dragon-poznan/
SUMMARY:Alameda 5 / Dragon / Poznań
DESCRIPTION:Kwintet ALAMEDA 5 zagra pierwszy raz w DRAGONIE!\n\nALAMEDA 5 t
 o kwintet założony w 2014 roku przez Jakuba Ziołka (Stara Rzeka\, Inner
 city Ensemble)\, Mikołaja Zielińskiego (T'ien Lai\, Javva)\, Łukasza J
 ędrzejczaka (T'ien Lai\, Javva)\, Jacka Buhla (Jachna/Mazurkiewicz/Buhl\,
  Jaząbu) i Rafała Iwańskiego (HATI\, Innercity Ensemble). ALAMEDA 5 sta
 nowi efekt poszukiwań muzycznych skupionych wokół transu\, progresywnej
  elektroniki lat 70 i bardziej ekstremalnych i nienormatywnych odmian jazz
 u i muzyki improwizowanej. Ich zwieńczeniem był debiutancki album "Duch 
 tornada" (2015\, Instant Classic)\, który zebrał wiele entuzjastycznych 
 recenzji\, a według dziennikarzy Noise Magazine został okrzyknięty drug
 im najlepszym polskim albumem lat 2001-2016. Od tego czasu muzyka grupy ew
 oluowała w stronę dalszych eksploracji rytmiki afrykańskiej i latynoame
 rykańskiej\, inspiracji wczesnym fusion w duchu Milesa Davisa\, post-punk
 iem i post-minimalizmem\, czego efektem jest wydany na początku 2019 roku
  przez Instant Classic świetnie przyjęty (m.in. The Quietus\, Polityka\,
  Lizard Magazyn) drugi album kwintetu zatytułowany "Eurodrome". ALAMEDA 5
  zagrała dziesiątki koncertów\, spotykając się z entuzjastycznym przy
 jęciem ze strony publiczności.
ATTACH;FMTTYPE=image/jpeg:https://night4u.pl/wp-content/uploads/2019/07/54
 254_image_67188034_2500879279957293_5769450682776027136_o.jpg
CATEGORIES:wielkopolskie
LOCATION:Dragon Social Club\, ul.Zamkowa 3\, Poznan\, 61-768\, Poland
GEO:52.409327;16.932084
X-APPLE-STRUCTURED-LOCATION;VALUE=URI;X-ADDRESS=ul.Zamkowa 3\, Poznan\, 61-
 768\, Poland;X-APPLE-RADIUS=100;X-TITLE=Dragon Social Club:geo:52.409327,1
 6.932084
END:VEVENT
BEGIN:VTIMEZONE
TZID:Europe/Warsaw
X-LIC-LOCATION:Europe/Warsaw
BEGIN:DAYLIGHT
DTSTART:20190331T030000
TZOFFSETFROM:+0100
TZOFFSETTO:+0200
TZNAME:CEST
END:DAYLIGHT
END:VTIMEZONE
END:VCALENDAR