BEGIN:VCALENDAR
VERSION:2.0
PRODID:-//wp-events-plugin.com//7.2.3.1//EN
TZID:Europe/Warsaw
X-WR-TIMEZONE:Europe/Warsaw
BEGIN:VEVENT
UID:38902@night4u.pl
DTSTART;TZID=Europe/Warsaw:20200111T200000
DTEND;TZID=Europe/Warsaw:20200112T010000
DTSTAMP:20200111T171508Z
URL:https://night4u.pl/wydarzenia/alcomindz-mafia-i-pszona-mob-w-krakowie-
 11-01-2020/
SUMMARY:Alcomindz // Pablo Novacci // Pszona Mob // Kraków 11.01.2020
DESCRIPTION:W NOWYM ROKU JAZDA W STARYM STYLU\n\nStałych bywalców zaprasz
 amy na nowe wydawnictwa starych\nwyjadaczy. Mamy 2020. W Polsce tylko ALC 
 MDZ w Krakowie tylko\nPSZONA MOB. \n \nSZYBKI UPDATE:\nALC jest aktualnie 
 ON A MISSION. Nowy mixtape - nowy melanż.\nTym razem ponownie w Krakowie\
 , bo się lubimy. \n\nPablo Novacci od lat na scenie wyznacza trendy zaró
 wno w rapie jak i r&amp\;b. Specjalny człowiek\, specjalny koncert\, spec
 jalnie dla was.  \n\nNa Pszona tradycyjnie bez zmiany. I wiecie jak dokoń
 czyć. Wciąż\nlepsza muza. Mocniejsza muza. mordo\nNAJWIĘKSZY GRUBAS W 
 MIEŚCIE. \n \n ❌Klub Żaczek aleja 3 Maja 5\n ❌11.01.2020\n ❌START 
 IMPREZY: 20:00 \n \nTIMETABLE: \nTBA \n \nBILETY : 30 zł // 40 zł // 50 
 zł \nhttps://goingapp.pl/evt/2184983/\n\nPATRONAT: \nGlamrap\nHip Hop Nig
 dy Stop\nHype\n\n\nInformacja dla niepełnoletnich:\nWstęp na koncert 16+
  za pisemną zgodą rodzica.\nPoniżej 16 lat -wymagana obecność opiekun
 a prawnego.
ATTACH;FMTTYPE=image/jpeg:https://night4u.pl/wp-content/uploads/2020/01/11
 2021_image_81631363_125100498976455_219430751031001088_o.jpg
CATEGORIES:małopolskie
LOCATION:Klub Studencki Żaczek\, Al. 3 Maja 5\, Kraków\, 30-063\, Poland
GEO:50.060266;19.9223
X-APPLE-STRUCTURED-LOCATION;VALUE=URI;X-ADDRESS=Al. 3 Maja 5\, Kraków\, 30
 -063\, Poland;X-APPLE-RADIUS=100;X-TITLE=Klub Studencki Żaczek:geo:50.060
 266,19.9223
END:VEVENT
BEGIN:VTIMEZONE
TZID:Europe/Warsaw
X-LIC-LOCATION:Europe/Warsaw
BEGIN:STANDARD
DTSTART:20191027T020000
TZOFFSETFROM:+0200
TZOFFSETTO:+0100
TZNAME:CET
END:STANDARD
END:VTIMEZONE
END:VCALENDAR