BEGIN:VCALENDAR
VERSION:2.0
PRODID:-//wp-events-plugin.com//7.2.3.1//EN
TZID:Europe/Warsaw
X-WR-TIMEZONE:Europe/Warsaw
BEGIN:VEVENT
UID:48409@night4u.pl
DTSTART;TZID=Europe/Warsaw:20200229T210000
DTEND;TZID=Europe/Warsaw:20200301T050000
DTSTAMP:20200229T173350Z
URL:https://night4u.pl/wydarzenia/ale-mexxyk-tequilla-50-i-piwo-za-darmo-x
 -gorzow-wlkp/
SUMMARY:Ale Mexxyk! Tequilla -50% i Piwo za darmo x Gorzów Wlkp
DESCRIPTION:👋 Hola Amigo! \n💃 Arriva arriva tango balanga 🕺\n\n
 🇲🇽 Niezły meksyk w Weselu! \nJedyna taka impreza raz na cztery lata
  🔥\n\n🍾 Tequilla -50% przez CAŁĄ NOC! \n🍻 Piwo za DARMO do 22\n
 👒 Szykuj sombrero i przyjdź na sobotnią imprezę! \n\n💌 Staropolsk
 im obyczajem Para Młoda zaprasza na:\n⭐DYSKOTEKĘ WESELNĄ w GORZOWIE W
 IELKOPOLSKIM⭐\n\n😍😍😍 Na wejściu Młodzi przywitają Was chlebe
 m\, solą i kieliszkiem szampana!\n\nPodczas imprezy możecie się spodzie
 wać zabawy jak na prawdziwym weselu! Super muzyka Kaczuszki\, Pociągi i 
 inne Wężyki sprawią\, że nie będziecie chcieli schodzić z parkietu!\
 n\n❤️ Nie zabraknie tradycyjnych OCZEPIN ❤️\n🎧🎤 IMPREZĘ POP
 ROWADZI DJ &amp\; WODZIREJ 🎧🎤\n\n\n♥♥♥♥♥♥♥♥♥♥♥
 ♥♥♥♥♥♥♥♥♥♥♥♥♥\nGRAMY od 21.00 do ostatniego goś
 cia!\n▬▬▬▬▬▬▬▬▬▬▬▬▬▬▬▬▬▬▬▬▬▬
 ▬▬▬▬▬\n💵 CENY BILETÓW:\n[18+] - za okazaniem dokumentu tożs
 amości\n21:00 - do końca imprezy - 20zł \n🍻 DO 22 PIWO ZA DARMO \nTy
 lko u nas Wesela bez koperty i krawatów!\n\n💍REZERWACJE STOLIKÓW: ☎
  +48 791 998 805💍\n\nIdealne miejsce na Wieczór Panieński &amp\; Kawa
 lerski\, Rocznicę Ślubu\, Urodziny\, a nawet Wesele!\n\n🏆Wejściówki
  za darmo 🏆\nwww.weselezadarmo.pl/\n▬▬▬▬▬▬▬▬▬▬▬
 ▬▬▬▬▬▬▬▬▬▬▬▬▬▬▬▬\nNa imprezie obowiązuje 
 wygodny nieformalny strój taki jak dla Ciebie jest wygodny - jednak bez e
 lementów sportowych m.in dresów\, czapek itp.
ATTACH;FMTTYPE=image/jpeg:https://night4u.pl/wp-content/uploads/2020/02/16
 5368_image_87387778_2480494918855088_6323515023171780608_o.jpg
CATEGORIES:lubuskie
LOCATION:Dyskoteka Wesele Gorzów Wielkopolski\, Obotrycka 9\, Gorzów Wiel
 kopolski\, 66-400\, Poland
GEO:52.73095;15.24143
X-APPLE-STRUCTURED-LOCATION;VALUE=URI;X-ADDRESS=Obotrycka 9\, Gorzów Wielk
 opolski\, 66-400\, Poland;X-APPLE-RADIUS=100;X-TITLE=Dyskoteka Wesele Gorz
 ów Wielkopolski:geo:52.73095,15.24143
END:VEVENT
BEGIN:VTIMEZONE
TZID:Europe/Warsaw
X-LIC-LOCATION:Europe/Warsaw
BEGIN:STANDARD
DTSTART:20191027T020000
TZOFFSETFROM:+0200
TZOFFSETTO:+0100
TZNAME:CET
END:STANDARD
END:VTIMEZONE
END:VCALENDAR