BEGIN:VCALENDAR
VERSION:2.0
PRODID:-//wp-events-plugin.com//7.2.3.1//EN
TZID:Europe/Warsaw
X-WR-TIMEZONE:Europe/Warsaw
BEGIN:VEVENT
UID:6381@night4u.pl
DTSTART;TZID=Europe/Warsaw:20190208T190000
DTEND;TZID=Europe/Warsaw:20190208T210000
DTSTAMP:20190204T004145Z
URL:https://night4u.pl/wydarzenia/alicja-majewska-wlodzimierz-korcz-okragl
 y-jubileusz/
SUMMARY:Alicja Majewska\, Włodzimierz Korcz - "Okrągły Jubileusz"
DESCRIPTION:Zapraszamy na wielki\, jubileuszowy koncert Alicji Majewskiej. 
 Jej przejmujące interpretacje piosenek pisanych głównie przez współpr
 acującego z nią od lat kompozytora i pianisty – Włodzimierza Korcza n
 iezmiennie budzą wzruszenie i entuzjazm.\n\nAlicja Majewska zadebiutował
 a na scenie w 1968 roku i odtąd nieprzerwanie króluje w sercach fanów p
 olskiej piosenki. Podczas koncertu usłyszymy największe przeboje artystk
 i: „Odkryjemy miłość nieznaną"\, Jeszcze się tam żagiel bieli"\, c
 zy „Być kobietą". Pojawią się również najnowsze piosenki z niedawn
 o wydanej płyty – „Wszystko może się stać". Teksty Wojciecha Młyn
 arskiego\, Jacka Cygana\, Magdy Czapińskiej\, Wojciecha Kejnego\, Moniki 
 Partyk\, Artura Andrusa i innych świetnych autorów zabrzmią w ustach Al
 icji Majewskiej w sposób nie pozostawiający nikogo obojętnym na urodę 
 słowa i muzyki.\n\nWystąpią:\nAlicja Majewska\nWłodzimierz Korcz – f
 ortepian\nArtur Andrus - gość specjalny\noraz\nWarsaw Opera Quartet
ATTACH;FMTTYPE=image/jpeg:https://night4u.pl/wp-content/uploads/2019/02/18
 867_image_44342324_266634103992742_5071903579648819200_o.jpg
CATEGORIES:lubelskie
LOCATION:Spotkania Kultur\, Plac Teatralny 1\, Lublin\, 20-029\, Poland
GEO:51.247033;22.54863
X-APPLE-STRUCTURED-LOCATION;VALUE=URI;X-ADDRESS=Plac Teatralny 1\, Lublin\,
  20-029\, Poland;X-APPLE-RADIUS=100;X-TITLE=Spotkania Kultur:geo:51.247033
 ,22.54863
END:VEVENT
BEGIN:VTIMEZONE
TZID:Europe/Warsaw
X-LIC-LOCATION:Europe/Warsaw
BEGIN:STANDARD
DTSTART:20181028T020000
TZOFFSETFROM:+0200
TZOFFSETTO:+0100
TZNAME:CET
END:STANDARD
END:VTIMEZONE
END:VCALENDAR