BEGIN:VCALENDAR
VERSION:2.0
PRODID:-//wp-events-plugin.com//7.2.3.1//EN
TZID:Europe/Warsaw
X-WR-TIMEZONE:Europe/Warsaw
BEGIN:VEVENT
UID:35052@night4u.pl
DTSTART;TZID=Europe/Warsaw:20191110T210000
DTEND;TZID=Europe/Warsaw:20191111T060000
DTSTAMP:20191107T090226Z
URL:https://night4u.pl/wydarzenia/all-night-long-10-11/
SUMMARY:All night long // 10.11
DESCRIPTION:Poniedziałek wolny\, więc w niedzielę ogień w Czekoladzie!\
 nZakończmy imprezowy tydzień mocnym uderzeniem w niedzielę!\nNiech mela
 nż Was poniesie!\n\nLine up:\ndolna sala / lower room:\nDJ BARTECH\n\ngó
 rna sala / upper room:\nDJ PUOCKY\n\nStart: 21:00\nWSTĘP: Panie FREE\, pa
 nowie 10 zł\, lista FB free do 23.30\, karty klubowe free\, selekcja  \n\
 n---\n\nMonday is free\, so on Sunday the fire in Czekolada!\nLet's end th
 e party week with a strong blow on Sunday!\nLet melange bear you!\n\nStart
 : 21.00\nEntrance: Ladies free\, Guys 10 pln / club cards free / FB list f
 ree till 11.30 p.m. / door selection
ATTACH;FMTTYPE=image/jpeg:https://night4u.pl/wp-content/uploads/2019/11/92
 164_image_74285452_2750348925010242_5847981213435822080_o.jpg
CATEGORIES:łódzkie
LOCATION:Klub Czekolada Łódź\, Łódź\, Poland
GEO:51.769644;19.455797
X-APPLE-STRUCTURED-LOCATION;VALUE=URI;X-ADDRESS=Łódź\, Poland;X-APPLE-RA
 DIUS=100;X-TITLE=Klub Czekolada Łódź:geo:51.769644,19.455797
END:VEVENT
BEGIN:VTIMEZONE
TZID:Europe/Warsaw
X-LIC-LOCATION:Europe/Warsaw
BEGIN:STANDARD
DTSTART:20191027T020000
TZOFFSETFROM:+0200
TZOFFSETTO:+0100
TZNAME:CET
END:STANDARD
END:VTIMEZONE
END:VCALENDAR