BEGIN:VCALENDAR
VERSION:2.0
PRODID:-//wp-events-plugin.com//7.2.3.1//EN
TZID:Europe/Warsaw
X-WR-TIMEZONE:Europe/Warsaw
BEGIN:VEVENT
UID:5971@night4u.pl
DTSTART;TZID=Europe/Warsaw:20190201T210000
DTEND;TZID=Europe/Warsaw:20190202T060000
DTSTAMP:20190131T221046Z
URL:https://night4u.pl/wydarzenia/all-night-long-mifi-b2b-sashka/
SUMMARY:All Night Long: Mifi b2b Sashka
DESCRIPTION:Tego wieczoru\, technikę odstawiamy na bok chcąc dać ukłon 
 w stronę prawdziwemu undergroundowemu brzmieniu przenosząc siebie i słu
 chacza w kierunku Chicago\, Detroit czy Berlina.\nW piątkowy wieczór zap
 raszamy na podróż po gatunkach takich jak lo-fi house\, stare wykopalisk
 a Saszki z pod gatunku techno lat 90\, aż po najnowsze produkcje atmosfer
 ycznego techno z playlist Mifiego. \n\nDJ’S:\n✹ Sashka (KLUB METRO/ au
 diosfera)\n\n❃ MIFI (Tribalanga Festival/ KLUB METRO)\nhttps://www.faceb
 ook.com/mifisound/\nhttps://www.mixcloud.com/mifideltasigma/\n\nLink do bi
 foru:\nhttps://www.mixcloud.com/mifideltasigma/mifi-autumn/
ATTACH;FMTTYPE=image/jpeg:https://night4u.pl/wp-content/uploads/2019/01/17
 954_image_50286130_10156128424651985_443073666683502592_o.jpg
CATEGORIES:podlaskie
LOCATION:KLUB METRO\, Białówny 9/1\, Białystok\, 15-437\, Poland
GEO:53.13331;23.156827
X-APPLE-STRUCTURED-LOCATION;VALUE=URI;X-ADDRESS=Białówny 9/1\, Białystok
 \, 15-437\, Poland;X-APPLE-RADIUS=100;X-TITLE=KLUB METRO:geo:53.13331,23.1
 56827
END:VEVENT
BEGIN:VTIMEZONE
TZID:Europe/Warsaw
X-LIC-LOCATION:Europe/Warsaw
BEGIN:STANDARD
DTSTART:20181028T020000
TZOFFSETFROM:+0200
TZOFFSETTO:+0100
TZNAME:CET
END:STANDARD
END:VTIMEZONE
END:VCALENDAR