BEGIN:VCALENDAR
VERSION:2.0
PRODID:-//wp-events-plugin.com//7.2.3.1//EN
TZID:Europe/Warsaw
X-WR-TIMEZONE:Europe/Warsaw
BEGIN:VEVENT
UID:31139@night4u.pl
DTSTART;TZID=Europe/Warsaw:20191012T210000
DTEND;TZID=Europe/Warsaw:20191013T040000
DTSTAMP:20191009T194349Z
URL:https://night4u.pl/wydarzenia/all-night-with-nefretete-sobota-12-10/
SUMMARY:ALL Night with Nefretete // Sobota 12.10
DESCRIPTION:W najbliższą sobotę 12 października zapraszamy na imprezę 
 "All Night"\, podczas której przez całą noc zagra dla Was rezydentka kl
 ubu M7 w Białymstoku - DJ'ka Nefretete.\n\n12 Października - Sobota\nMuz
 yka: DJ Nefretete\n\nStart: 21:00\n★ Bilety: 15 zł\n★ Selekcja: 21+\n
 ★ Dresscode: Elegant\n\nRezerwacji dokonywać można pod nr. tel: 698 51
 5 670\nW klubie obowiązuje selekcja.
ATTACH;FMTTYPE=image/jpeg:https://night4u.pl/wp-content/uploads/2019/10/72
 400_image_72225397_3106410762767753_2213750036985020416_o.jpg
CATEGORIES:podlaskie
LOCATION:Klub 54\, Aleja Legionów 54 F\, Łomża\, 18-400\, Poland
GEO:53.17119;22.065284
X-APPLE-STRUCTURED-LOCATION;VALUE=URI;X-ADDRESS=Aleja Legionów 54 F\, Łom
 ża\, 18-400\, Poland;X-APPLE-RADIUS=100;X-TITLE=Klub 54:geo:53.17119,22.0
 65284
END:VEVENT
BEGIN:VTIMEZONE
TZID:Europe/Warsaw
X-LIC-LOCATION:Europe/Warsaw
BEGIN:DAYLIGHT
DTSTART:20190331T030000
TZOFFSETFROM:+0100
TZOFFSETTO:+0200
TZNAME:CEST
END:DAYLIGHT
END:VTIMEZONE
END:VCALENDAR