BEGIN:VCALENDAR
VERSION:2.0
PRODID:-//wp-events-plugin.com//7.2.3.1//EN
TZID:Europe/Warsaw
X-WR-TIMEZONE:Europe/Warsaw
BEGIN:VEVENT
UID:35943@night4u.pl
DTSTART;TZID=Europe/Warsaw:20191122T210000
DTEND;TZID=Europe/Warsaw:20191123T050000
DTSTAMP:20191122T230031Z
URL:https://night4u.pl/wydarzenia/all4-girls-i-sanchez-en-vivo-2/
SUMMARY:All4 Girls I Sanchez En Vivo
DESCRIPTION:Cykl piątkowych imprez All4 Girls. Wszystko dla Was dziewczyny
 ! \nDo 23:00 Drogie Panie wchodzicie do klubu za darmo\, a przez całą no
 c 4 wybrane drinki lub shoty pijecie w cenie 9 złotych 🍹 \nCo tydzień
  nasi barmani przygotują specjalnie dla Was nowy zestaw kolorowych i prze
 pysznych trunków.\nBrzmi zachęcająco? Do zobaczenia 💄\n\nSTAGE:\n★
  SANCHEZ EN VIVO\nSelekcja / CASUAL i SMART CASUAL\n\nWstęp\n♀ do 23 FR
 EE / po 23 - 10 PLN\n♂ 10 PLN / po 24 - 15 PLN\nKarty VIP &amp\; Karty C
 lubowe / Wstęp DARMOWY\n\nRezerwacje Loży\nwww.emenago.com/i/sofamusiccl
 ub
ATTACH;FMTTYPE=image/jpeg:https://night4u.pl/wp-content/uploads/2019/11/96
 351_image_75392783_2492744990804955_3521828888722276352_o.jpg
CATEGORIES:opolskie
LOCATION:Sofa Music Club\, Oleska 102\, Opole\, 45-231\, Poland
GEO:50.681382;17.941253
X-APPLE-STRUCTURED-LOCATION;VALUE=URI;X-ADDRESS=Oleska 102\, Opole\, 45-231
 \, Poland;X-APPLE-RADIUS=100;X-TITLE=Sofa Music Club:geo:50.681382,17.9412
 53
END:VEVENT
BEGIN:VTIMEZONE
TZID:Europe/Warsaw
X-LIC-LOCATION:Europe/Warsaw
BEGIN:STANDARD
DTSTART:20191027T020000
TZOFFSETFROM:+0200
TZOFFSETTO:+0100
TZNAME:CET
END:STANDARD
END:VTIMEZONE
END:VCALENDAR