BEGIN:VCALENDAR
VERSION:2.0
PRODID:-//wp-events-plugin.com//7.2.3.1//EN
TZID:Europe/Warsaw
X-WR-TIMEZONE:Europe/Warsaw
BEGIN:VEVENT
UID:27870@night4u.pl
DTSTART;TZID=Europe/Warsaw:20190926T220000
DTEND;TZID=Europe/Warsaw:20190927T040000
DTSTAMP:20190916T211819Z
URL:https://night4u.pl/wydarzenia/aloha-party-orientation-week-with-esn-uj
 -cracow/
SUMMARY:Aloha Party - Orientation Week with ESN UJ Cracow
DESCRIPTION:Fourth day is for the biggest party during the Orientation Week
 ! We are inviting you to Prozak 2.0 for the big HAWAII FESTA??\n\nPrepare 
 for the competitions such as the LIMBO championship and win a great prize!
 \n\nYou will get a welcome coctail and lots of special prices with the ent
 ry bracelet???\n\nCan’t wait to see you all!
ATTACH;FMTTYPE=image/jpeg:https://night4u.pl/wp-content/uploads/2019/09/64
 782_image_70511853_3011485845544548_8650291209064939520_o.jpg
CATEGORIES:małopolskie
LOCATION:Prozak 2.0\, Plac Dominikański 6\, Kraków\, 31-032\, Poland
GEO:50.058986;19.938203
X-APPLE-STRUCTURED-LOCATION;VALUE=URI;X-ADDRESS=Plac Dominikański 6\, Krak
 ów\, 31-032\, Poland;X-APPLE-RADIUS=100;X-TITLE=Prozak 2.0:geo:50.058986,
 19.938203
END:VEVENT
BEGIN:VTIMEZONE
TZID:Europe/Warsaw
X-LIC-LOCATION:Europe/Warsaw
BEGIN:DAYLIGHT
DTSTART:20190331T030000
TZOFFSETFROM:+0100
TZOFFSETTO:+0200
TZNAME:CEST
END:DAYLIGHT
END:VTIMEZONE
END:VCALENDAR