BEGIN:VCALENDAR
VERSION:2.0
PRODID:-//wp-events-plugin.com//7.2.3.1//EN
TZID:Europe/Warsaw
X-WR-TIMEZONE:Europe/Warsaw
BEGIN:VEVENT
UID:32602@night4u.pl
DTSTART;TZID=Europe/Warsaw:20191019T200000
DTEND;TZID=Europe/Warsaw:20191019T230000
DTSTAMP:20191019T215819Z
URL:https://night4u.pl/wydarzenia/alternatywa-elektroniczna-ft-dj-wuks/
SUMMARY:Alternatywa Elektroniczna Ft Dj Wuks
DESCRIPTION:Siemanko !\n\nJuż w najbliższą sobotę  wbijamy do Ostro !\n
 Za deckami stanie Dj WUKS ! Człowiek\, który w długich setach przeprowa
 dza pomysłowe połączenia gatunków : elektro\, EBM \,disco \,HOUSE i te
 chno .\nPoszukiwacz płyt winylowych\, ceniący zarówno te nowsze jaki i 
 starsze wydawnictwa. Wszystko okraszone niebanalnymi tematami od naszych b
 armanów !\nPicka w dłoń i podbijamy deptak !\n\nStrat : 20:00\nDj: Wuks
ATTACH;FMTTYPE=image/jpeg:https://night4u.pl/wp-content/uploads/2019/10/78
 741_image_72636145_1192703160917340_2083375067764359168_n.jpg
CATEGORIES:lubelskie
LOCATION:OSTRO\, ul. Krakowskie Przedmieście 25\, Lublin\, 20-002\, Poland
GEO:51.24798;22.56254
X-APPLE-STRUCTURED-LOCATION;VALUE=URI;X-ADDRESS=ul. Krakowskie Przedmieści
 e 25\, Lublin\, 20-002\, Poland;X-APPLE-RADIUS=100;X-TITLE=OSTRO:geo:51.24
 798,22.56254
END:VEVENT
BEGIN:VTIMEZONE
TZID:Europe/Warsaw
X-LIC-LOCATION:Europe/Warsaw
BEGIN:DAYLIGHT
DTSTART:20190331T030000
TZOFFSETFROM:+0100
TZOFFSETTO:+0200
TZNAME:CEST
END:DAYLIGHT
END:VTIMEZONE
END:VCALENDAR