BEGIN:VCALENDAR
VERSION:2.0
PRODID:-//wp-events-plugin.com//7.2.3.1//EN
TZID:Europe/Warsaw
X-WR-TIMEZONE:Europe/Warsaw
BEGIN:VEVENT
UID:31220@night4u.pl
DTSTART;TZID=Europe/Warsaw:20191012T220000
DTEND;TZID=Europe/Warsaw:20191013T040000
DTSTAMP:20191009T200249Z
URL:https://night4u.pl/wydarzenia/american-party-dj-tvardy/
SUMMARY:American Party | Dj Tvardy
DESCRIPTION:Czy każdy z Was miał choćby przez chwilę marzenie bo znale
 źć się w Ameryce?\nMacie na to okazje już 12 października :) :) :) .\
 nWchodzisz na imprezę popijając zimny poncz z czerwonego kubeczka. Widzi
 sz szalony tłum ludzi i grupki grające w beer ponga\,\ntańczysz z gorą
 cymi cheerleaderkami a footballiści zazdroszczą Tobie zajebistej zabawy!
 \nPolicja dobija się do drzwi a muzyka gra coraz głośniej!\nTe imprezy 
 są nie do opisania! Rodem z American Pie - House Party Style!\nSpecjalnie
  dla Was tej nocy zagra DJ Tvardy!\n\nBędzie też poncz i popcorn!!!\n\nZ
 apamiętajmy tą Noc\, bo może się już nigdy nie zdarzyć!
ATTACH;FMTTYPE=image/jpeg:https://night4u.pl/wp-content/uploads/2019/10/72
 572_image_71806878_2565226986872569_999622271997837312_o.jpg
CATEGORIES:dolnośląskie
LOCATION:CoffeePlanet Wrocław\, Rynek 7\, Wroclaw\, 50-106\, Poland
GEO:51.1102;17.03022
X-APPLE-STRUCTURED-LOCATION;VALUE=URI;X-ADDRESS=Rynek 7\, Wroclaw\, 50-106\
 , Poland;X-APPLE-RADIUS=100;X-TITLE=CoffeePlanet Wrocław:geo:51.1102,17.0
 3022
END:VEVENT
BEGIN:VTIMEZONE
TZID:Europe/Warsaw
X-LIC-LOCATION:Europe/Warsaw
BEGIN:DAYLIGHT
DTSTART:20190331T030000
TZOFFSETFROM:+0100
TZOFFSETTO:+0200
TZNAME:CEST
END:DAYLIGHT
END:VTIMEZONE
END:VCALENDAR