BEGIN:VCALENDAR
VERSION:2.0
PRODID:-//wp-events-plugin.com//7.2.3.1//EN
TZID:Europe/Warsaw
X-WR-TIMEZONE:Europe/Warsaw
BEGIN:VEVENT
UID:11719@night4u.pl
DTSTART;TZID=Europe/Warsaw:20190406T200000
DTEND;TZID=Europe/Warsaw:20190407T040000
DTSTAMP:20190403T193540Z
URL:https://night4u.pl/wydarzenia/american-vibe-twenty-club-06-04-sobota-d
 j-dnu/
SUMMARY:American vibe / Twenty Club / 06.04 (sobota) / DJ DNU
DESCRIPTION:American vibe in Twenty Club! \nNajważniejszy punkt imprezy to
  czerwone kubki\, morze piwa i gra w beer ponga.\nTej nocy odpalamy ameryk
 ański klimat imprezy! \nNa parkiecie królować będą największe przebo
 je zza oceanu.\nSelekcje muzyczną zapewni Dj DNU\nNie może Was zabrakną
 ć!\n\n6\,03 (sobota)\nTwenty Club\n#StaryRynek20\n\n\nBar prommo:\nWódka
  Lubuski 0\,5l + soft 1l za 50PLN (do godz. 22.00)\nWhisky Highland 0\,7l 
 + Pepsi 1l za 100zł (przez całą noc)\n\nWstęp:\nStudenci i Panie: do 2
 2:00 - FREE! || Po 22:00 5zł\nPanowie 10zł\n\nAmerican vibe at Twenty Cl
 ub! \nRed cups\, loads of beer and beer pong will be the main theme of the
  night.\nLet the American vibe fire You up! \nOn the dance floor you'll he
 ar the newest hits from across the ocean.\nDj DNU is taking care of the mu
 sic selection! \nYou have to be there! TWENTY is waiting!
ATTACH;FMTTYPE=image/jpeg:https://night4u.pl/wp-content/uploads/2019/04/30
 129_image_56290963_2269151509970153_8580212224855900160_o.jpg
CATEGORIES:kujawsko-pomorskie
LOCATION:Twenty Club &amp\; Garden\, Stary Rynek 20\, Bydgoszcz\, 85-530\, 
 Poland
GEO:53.121635;18.000337
X-APPLE-STRUCTURED-LOCATION;VALUE=URI;X-ADDRESS=Stary Rynek 20\, Bydgoszcz\
 , 85-530\, Poland;X-APPLE-RADIUS=100;X-TITLE=Twenty Club & Garden:geo:53.1
 21635,18.000337
END:VEVENT
BEGIN:VTIMEZONE
TZID:Europe/Warsaw
X-LIC-LOCATION:Europe/Warsaw
BEGIN:DAYLIGHT
DTSTART:20190331T030000
TZOFFSETFROM:+0100
TZOFFSETTO:+0200
TZNAME:CEST
END:DAYLIGHT
END:VTIMEZONE
END:VCALENDAR