BEGIN:VCALENDAR
VERSION:2.0
PRODID:-//wp-events-plugin.com//7.2.3.1//EN
TZID:Europe/Warsaw
X-WR-TIMEZONE:Europe/Warsaw
BEGIN:VEVENT
UID:3766@night4u.pl
DTSTART;TZID=Europe/Warsaw:20190124T200000
DTEND;TZID=Europe/Warsaw:20190124T220000
DTSTAMP:20190116T101609Z
URL:https://night4u.pl/wydarzenia/amore-del-impro-17/
SUMMARY:Amore del Impro #17
DESCRIPTION:Spragnieni kolejnej komediowej improwizacji scenicznej?!\nZapra
 szamy na wyjątkową zabawę w Amore del Tropico!!!\n\nGdzie wybierzemy si
 ę tym razem? Trudno powiedzieć\, gdyż wszystko zależy tylko i wyłącz
 nie od tego co podpowie nam wyobraźnia publiczności. \n\nJeśli nie bawi
 łeś się jeszcze z nami\, przyjdź\, a być może odkryjesz w sobie dusz
 ę aktora. Gwarantujemy też masę śmiechu i dobrej zabawy!
ATTACH;FMTTYPE=image/jpeg:https://night4u.pl/wp-content/uploads/2019/01/11
 716_image_49170022_2202313616689235_563778461202644992_o.jpg
CATEGORIES:wielkopolskie
LOCATION:Amore del Tropico\, Ratajczaka 26/2\, Poznan\, 61-815\, Poland
GEO:52.405425;16.925737
X-APPLE-STRUCTURED-LOCATION;VALUE=URI;X-ADDRESS=Ratajczaka 26/2\, Poznan\, 
 61-815\, Poland;X-APPLE-RADIUS=100;X-TITLE=Amore del Tropico:geo:52.405425
 ,16.925737
END:VEVENT
BEGIN:VTIMEZONE
TZID:Europe/Warsaw
X-LIC-LOCATION:Europe/Warsaw
BEGIN:STANDARD
DTSTART:20181028T020000
TZOFFSETFROM:+0200
TZOFFSETTO:+0100
TZNAME:CET
END:STANDARD
END:VTIMEZONE
END:VCALENDAR