BEGIN:VCALENDAR
VERSION:2.0
PRODID:-//wp-events-plugin.com//7.2.3.1//EN
TZID:Europe/Warsaw
X-WR-TIMEZONE:Europe/Warsaw
BEGIN:VEVENT
UID:20380@night4u.pl
DTSTART;TZID=Europe/Warsaw:20190706T200000
DTEND;TZID=Europe/Warsaw:20190707T050000
DTSTAMP:20190628T224459Z
URL:https://night4u.pl/wydarzenia/amundsen-in-the-house-6/
SUMMARY:Amundsen in the house
DESCRIPTION:Szalona #noc w gangsterskim stylu? Czemu nie! \n\nPrzeniesiemy 
 Was do czasów Al Capone\, Rudolfa Valentino i Charliego Chaplina! Mile wi
 dziane przebrania w stylu roztańczonych lat 20 – dla najciekawszej styl
 izacji nagroda niespodzianka!\n\nPodczas Al Capone Night Party nasi barman
 i przygotują specjalne koktajle w promocyjnych cenach. \n\nSponsorem wyda
 rzenia jest Amundsen Vodka\nOczekujcie zaskakujących i satysfakcjonujący
 ch zniżek.\n\nAMUNDSEN to najwyższej klasy wódka\, która swój wyjątk
 owo łagodny smak zawdzięcza krystalicznie czystej wodzie i starannie wys
 elekcjonowanym składnikom.\n\nRezerwacja miejsc : \n➡ 506 099 788\, 517
  593 181 \nlub mailem :\n➡rezerwacje.krakow@gmail.com
ATTACH;FMTTYPE=image/jpeg:https://night4u.pl/wp-content/uploads/2019/06/48
 923_image_65246008_1926834560750331_7501842491990081536_o.jpg
CATEGORIES:małopolskie
LOCATION:B4 Bracka 4\, ul.Bracka 4\, Kraków\, 31-005\, Poland
GEO:50.06042;19.93637
X-APPLE-STRUCTURED-LOCATION;VALUE=URI;X-ADDRESS=ul.Bracka 4\, Kraków\, 31-
 005\, Poland;X-APPLE-RADIUS=100;X-TITLE=B4 Bracka 4:geo:50.06042,19.93637
END:VEVENT
BEGIN:VTIMEZONE
TZID:Europe/Warsaw
X-LIC-LOCATION:Europe/Warsaw
BEGIN:DAYLIGHT
DTSTART:20190331T030000
TZOFFSETFROM:+0100
TZOFFSETTO:+0200
TZNAME:CEST
END:DAYLIGHT
END:VTIMEZONE
END:VCALENDAR