BEGIN:VCALENDAR
VERSION:2.0
PRODID:-//wp-events-plugin.com//7.2.3.1//EN
TZID:Europe/Warsaw
X-WR-TIMEZONE:Europe/Warsaw
BEGIN:VEVENT
UID:6080@night4u.pl
DTSTART;TZID=Europe/Warsaw:20190205T193000
DTEND;TZID=Europe/Warsaw:20190205T223000
DTSTAMP:20190201T053550Z
URL:https://night4u.pl/wydarzenia/andrzej-adamiak-rezerwat-spotkanie-z-leg
 enda-kzib-vol-11/
SUMMARY:Andrzej Adamiak (Rezerwat) / Spotkanie z legendą / KZIB vol. 11
DESCRIPTION:Zapraszamy na spotkanie z Andrzejem Adamiakiem - liderem Rezerw
 atu\, jednej z najbardziej zasłużonych kapel w historii polskiej muzyki 
 rockowej. Zespół sprzedał ponad milion płyt\, a także nagrał jedną 
 z legendarnych ballad "Zaopiekuj się mną".\n\nWpadajcie\, zaopiekujemy s
 ię Wami w ten wtorkowy wieczór. Jak zwykle pogadamy o życiu\, muzyce\, 
 Łodzi i wielu innych tematach\, a potem tradycyjnie posłuchamy kilku prz
 ebojów w wyjątkowych aranżacjach.
ATTACH;FMTTYPE=image/jpeg:https://night4u.pl/wp-content/uploads/2019/02/18
 191_image_51323354_347480922770174_9195918635963514880_n.jpg
CATEGORIES:łódzkie
LOCATION:6 dzielnica\, Piotrkowska 102\, Łódź\, 90-005\, Poland
GEO:51.765029;19.457371
X-APPLE-STRUCTURED-LOCATION;VALUE=URI;X-ADDRESS=Piotrkowska 102\, Łódź\,
  90-005\, Poland;X-APPLE-RADIUS=100;X-TITLE=6 dzielnica:geo:51.765029,19.4
 57371
END:VEVENT
BEGIN:VTIMEZONE
TZID:Europe/Warsaw
X-LIC-LOCATION:Europe/Warsaw
BEGIN:STANDARD
DTSTART:20181028T020000
TZOFFSETFROM:+0200
TZOFFSETTO:+0100
TZNAME:CET
END:STANDARD
END:VTIMEZONE
END:VCALENDAR