BEGIN:VCALENDAR
VERSION:2.0
PRODID:-//wp-events-plugin.com//7.2.3.1//EN
TZID:Europe/Warsaw
X-WR-TIMEZONE:Europe/Warsaw
BEGIN:VEVENT
UID:22947@night4u.pl
DTSTART;TZID=Europe/Warsaw:20190817T210000
DTEND;TZID=Europe/Warsaw:20190817T210000
DTSTAMP:20190724T170103Z
URL:https://night4u.pl/wydarzenia/andrzej-polej-2/
SUMMARY:Andrzej polej !
DESCRIPTION:Kto powiedział że Andrzejki mogą być tylko raz w roku ⁉
 ️\nZatem\, Andrzej Polej ????\n\n⭐️ Państwo młodzi już na samym w
 ejściu przywitają gości poczęstunkiem w postaci wiejskiego stołu oraz
  pyszną wódeczką weselną i szampanem!\n\nATRAKCJE przygotowane dla Pa
 ństwa w WESELU to m.in:\n✔️DJ & WODZIREJ \n✔️NAJLEPSZE ZABAWY WES
 ELNE \n✔️WIELE INYCH!\n\n⭐️ ⭐ Imprezę poprowadzi DJ & WODZIREJ
 ⭐️ ⭐\n\n❤️ Kultowe oczepiny o godzinie 1.00 ❤️\n♥♥♥♥
 ♥♥♥♥♥♥♥♥♥♥\n??????????????\n??????????????\nGRAMY od 2
 1.00 do ostatniego gościa!\n▬▬▬▬▬▬▬▬▬▬▬▬▬▬▬
 ▬▬▬▬▬▬▬▬▬▬▬▬\n\nRezerwacje miejsc i biletów www.d
 yskotekiweselne.pl\nTylko u nas Wesela bez koperty i krawatów!\n\nREZERWA
 CJE BILETÓW & STOLIKÓW: +48 791 998 805\n\nNa imprezie obowiązuje wygod
 ny nieformalny strój taki jak dla Ciebie jest wygodny - jednak bez elemen
 tów sportowych m.in dresów\, czapek itp. Prosimy zostaw\, to w domu lub 
 zabierz na działkę ✌️
ATTACH;FMTTYPE=image/jpeg:https://night4u.pl/wp-content/uploads/2019/07/54
 231_image_67554136_2303056066598975_4955634262280765440_n.jpg
CATEGORIES:lubuskie
LOCATION:Dyskoteka Wesele Gorzów Wielkopolski\, Obotrycka 9\, Gorzów Wiel
 kopolski\, 66-400\, Poland
GEO:52.73095;15.24143
X-APPLE-STRUCTURED-LOCATION;VALUE=URI;X-ADDRESS=Obotrycka 9\, Gorzów Wielk
 opolski\, 66-400\, Poland;X-APPLE-RADIUS=100;X-TITLE=Dyskoteka Wesele Gorz
 ów Wielkopolski:geo:52.73095,15.24143
END:VEVENT
BEGIN:VTIMEZONE
TZID:Europe/Warsaw
X-LIC-LOCATION:Europe/Warsaw
BEGIN:DAYLIGHT
DTSTART:20190331T030000
TZOFFSETFROM:+0100
TZOFFSETTO:+0200
TZNAME:CEST
END:DAYLIGHT
END:VTIMEZONE
END:VCALENDAR