BEGIN:VCALENDAR
VERSION:2.0
PRODID:-//wp-events-plugin.com//7.2.3.1//EN
TZID:Europe/Warsaw
X-WR-TIMEZONE:Europe/Warsaw
BEGIN:VEVENT
UID:37482@night4u.pl
DTSTART;TZID=Europe/Warsaw:20191130T200000
DTEND;TZID=Europe/Warsaw:20191201T050000
DTSTAMP:20191129T094026Z
URL:https://night4u.pl/wydarzenia/andrzejki-2019-tylko-w-bajlando/
SUMMARY:Andrzejki 2019 tylko w Bajlando
DESCRIPTION:❗Już 30.11 gorąco zapraszamy na najgoretszą imprezę ANDRZ
 EJKOWĄ tylko w Bajlando
ATTACH;FMTTYPE=image/jpeg:https://night4u.pl/wp-content/uploads/2019/11/10
 4463_image_76946056_2867902206587878_7523324934857162752_o.jpg
CATEGORIES:śląskie
LOCATION:Bajlando\, Czerwionka\, Poland
GEO:50.136853;18.642486
X-APPLE-STRUCTURED-LOCATION;VALUE=URI;X-ADDRESS=Czerwionka\, Poland;X-APPLE
 -RADIUS=100;X-TITLE=Bajlando:geo:50.136853,18.642486
END:VEVENT
BEGIN:VTIMEZONE
TZID:Europe/Warsaw
X-LIC-LOCATION:Europe/Warsaw
BEGIN:STANDARD
DTSTART:20191027T020000
TZOFFSETFROM:+0200
TZOFFSETTO:+0100
TZNAME:CET
END:STANDARD
END:VTIMEZONE
END:VCALENDAR