BEGIN:VCALENDAR
VERSION:2.0
PRODID:-//wp-events-plugin.com//7.2.3.1//EN
TZID:Europe/Warsaw
X-WR-TIMEZONE:Europe/Warsaw
BEGIN:VEVENT
UID:36333@night4u.pl
DTSTART;TZID=Europe/Warsaw:20191130T200000
DTEND;TZID=Europe/Warsaw:20191201T050000
DTSTAMP:20191129T094731Z
URL:https://night4u.pl/wydarzenia/andrzejki-w-rytmach-disco-polo-i-30-11-1
 9/
SUMMARY:Andrzejki w rytmach Disco Polo I 30.11.19
DESCRIPTION:Jedna z ważniejszych dat w imprezowym kalendarzu!\nNie masz pl
 anów na ten wieczór? Roztańczona noc w Hush Live w rytmach najlepszych 
 hitów Disco Polo będzie idealnym wyborem!\n\nNa miejscu czekać będą s
 pecjalne atrakcje\, które urozmaicą Wasz wieczór i dodatkowo do każdej
  rezerwacji dorzucimy zestaw przekąsek\, bo wódeczka bez zagryzki to ci
 ężkie przewinienie! \;)\n\n! UWAGA ! Każdy Andrzej tej nocy wchodzi za 
 darmo!\n\nStart godzina 20.00\nWstęp: 20 zł\n\nNA BARZE PRZEZ CAŁĄ NOC
  SUPER PROMOCJE!\n\nPiwo 0\,5 - 8 zł\nButelka 0\,5 - 70 zł\nShot 40 ml (
 czysta i smakowe) - 7 zł\n\nREZERWACJA LOŻY:\nhttp://hushlive.pl/rezerwa
 cje
ATTACH;FMTTYPE=image/jpeg:https://night4u.pl/wp-content/uploads/2019/11/98
 239_image_77237768_2542819495931520_905249359329755136_o.jpg
CATEGORIES:małopolskie
LOCATION:HUSH LIVE\, Sławkowska 6\, Kraków\, 31-014\, Poland
GEO:50.063145;19.937096
X-APPLE-STRUCTURED-LOCATION;VALUE=URI;X-ADDRESS=Sławkowska 6\, Kraków\, 3
 1-014\, Poland;X-APPLE-RADIUS=100;X-TITLE=HUSH LIVE:geo:50.063145,19.93709
 6
END:VEVENT
BEGIN:VTIMEZONE
TZID:Europe/Warsaw
X-LIC-LOCATION:Europe/Warsaw
BEGIN:STANDARD
DTSTART:20191027T020000
TZOFFSETFROM:+0200
TZOFFSETTO:+0100
TZNAME:CET
END:STANDARD
END:VTIMEZONE
END:VCALENDAR