BEGIN:VCALENDAR
VERSION:2.0
PRODID:-//wp-events-plugin.com//7.2.3.1//EN
TZID:Europe/Warsaw
X-WR-TIMEZONE:Europe/Warsaw
BEGIN:VEVENT
UID:36491@night4u.pl
DTSTART;TZID=Europe/Warsaw:20191129T200000
DTEND;TZID=Europe/Warsaw:20191130T050000
DTSTAMP:20191129T094731Z
URL:https://night4u.pl/wydarzenia/andrzejki-z-power-play-w-hush-live-i-29-
 11-19/
SUMMARY:Andrzejki z POWER PLAY w Hush Live I 29.11.19
DESCRIPTION:Jedna z najgrubszych imprezowych dat w roku! 🔥\nJuż 29 list
 opada klub Hush Live ma zaszczyt zaprosić wszystkich Państwa na wspólne
  świętowanie imienin Andrzeja 🎶 z zepołem POWER PLAY !!!\n\nTwórca 
 takich hitów jak: \n"Lubisz To Lubisz" www.youtube.com/watch?v=j6tH_Jpe-l
 E\n"Co Tu Się Dzieje " www.youtube.com/watch?v=SMflXzFJg2U\n"NajPiękne" 
 www.youtube.com/watch?v=6f4WGnu2ex8\n"Co Ma Być To Będzie " www.youtube.
 com/watch?v=j_8fg3sskyo\n"Skok w Bok" www.youtube.com/watch?v=9OpYuO--fwQ\
 n"Chce Się Żyć" www.youtube.com/watch?v=Gkg_EJw3NhU\n"Nie Bo Nie" www.y
 outube.com/watch?v=B4TTFERSj5w\n"Zawsze coś" www.youtube.com/watch?v=cB2I
 LZd8Q9I\n\ni wielu innych\n\nDyskoteka w rytmach DiscoPolo i Polo Dance do
  białego rana!\n\nDodatkowo na barze przez cały wieczór czekają super 
 promocje:\nPIWO 8 zł\nSHOT WÓDKI 7 zł\nSHOT WÓDEK SMAKOWYCH 7 zł\nBUT
 ELKA WÓDKI 0\,5 70 ZŁ\n\nBilety: 20 zł\nBilety do nabycia w klubie oraz
  na stronie www.hushlive.pl\n\nRezerwacje:\nwww.hushlive.pl/rezerwacje lub
  w klubie
ATTACH;FMTTYPE=image/jpeg:https://night4u.pl/wp-content/uploads/2019/11/10
 0167_image_75491821_2546606395552830_4297869053214588928_o.jpg
CATEGORIES:małopolskie
LOCATION:HUSH LIVE\, Sławkowska 6\, Kraków\, 31-014\, Poland
GEO:50.063145;19.937096
X-APPLE-STRUCTURED-LOCATION;VALUE=URI;X-ADDRESS=Sławkowska 6\, Kraków\, 3
 1-014\, Poland;X-APPLE-RADIUS=100;X-TITLE=HUSH LIVE:geo:50.063145,19.93709
 6
END:VEVENT
BEGIN:VTIMEZONE
TZID:Europe/Warsaw
X-LIC-LOCATION:Europe/Warsaw
BEGIN:STANDARD
DTSTART:20191027T020000
TZOFFSETFROM:+0200
TZOFFSETTO:+0100
TZNAME:CET
END:STANDARD
END:VTIMEZONE
END:VCALENDAR