BEGIN:VCALENDAR
VERSION:2.0
PRODID:-//wp-events-plugin.com//7.2.3.1//EN
TZID:Europe/Warsaw
X-WR-TIMEZONE:Europe/Warsaw
BEGIN:VEVENT
UID:37746@night4u.pl
DTSTART;TZID=Europe/Warsaw:20191130T220000
DTEND;TZID=Europe/Warsaw:20191201T050000
DTSTAMP:20191129T092958Z
URL:https://night4u.pl/wydarzenia/andrzejki-z-wrozka-lista-fb-free-do-2300
 -3/
SUMMARY:Andrzejki z Wróżką // Lista Fb Free Do 23:00
DESCRIPTION:LISTA FB WCHODZI FREE DO 23:00! \nWYSTARCZY KLIKNĄĆ "WEZMĘ U
 DZIAŁ"\nLISTĘ ZAMYKAMY O 19:00!\n\nTej nocy gościmy WRÓŻKĘ\, która 
 przyszłość Wam przepowie. A sprawdzają się jej przepowiednie\, oj spr
 awdzają!\nW przejściu na salę HELL wróżyć Wam będzie z kart i z fus
 ów ♥\nAndrzeje\, to Wasz święto!\nAndrzeje przez całą noc wstęp FR
 EE ♥\nI pijemy zdrowie znanych Wam i nieznanych Andrzejów :P\n\n=======
 =============================\nZAGRAJĄ: \n===============================
 =====\nHEAVEN: Njoy the DJ\n====================================\nHELL: RA
 DI DJ // Radosław Pawelec RadiDj\n\nSTART: \n\n22:00\nLISTA FB FREE DO 23
 :00 / LISTĘ ZAMYKAMY O 19:00\n\nwstęp 15 zł
ATTACH;FMTTYPE=image/jpeg:https://night4u.pl/wp-content/uploads/2019/11/10
 6086_image_76911758_2420853454855152_1933088612979572736_o.jpg
CATEGORIES:pomorskie
LOCATION:HAH Sopot\, Aleja Franciszka Mamuszki 21 (obok wejścia nr 13 na p
 lażę)\, Sopot\, 81-712\, Poland
GEO:54.453133;18.563739
X-APPLE-STRUCTURED-LOCATION;VALUE=URI;X-ADDRESS=Aleja Franciszka Mamuszki 2
 1 (obok wejścia nr 13 na plażę)\, Sopot\, 81-712\, Poland;X-APPLE-RADIU
 S=100;X-TITLE=HAH Sopot:geo:54.453133,18.563739
END:VEVENT
BEGIN:VTIMEZONE
TZID:Europe/Warsaw
X-LIC-LOCATION:Europe/Warsaw
BEGIN:STANDARD
DTSTART:20191027T020000
TZOFFSETFROM:+0200
TZOFFSETTO:+0100
TZNAME:CET
END:STANDARD
END:VTIMEZONE
END:VCALENDAR