BEGIN:VCALENDAR
VERSION:2.0
PRODID:-//wp-events-plugin.com//7.2.3.1//EN
TZID:Europe/Warsaw
X-WR-TIMEZONE:Europe/Warsaw
BEGIN:VEVENT
UID:36365@night4u.pl
DTSTART;TZID=Europe/Warsaw:20191130T210000
DTEND;TZID=Europe/Warsaw:20191201T040000
DTSTAMP:20191129T091041Z
URL:https://night4u.pl/wydarzenia/andrzejkowa-noc-w-prywatce/
SUMMARY:Andrzejkowa Noc w Prywatce
DESCRIPTION:Gorąco zapraszamy na Andrzejki w naszym wydaniu‼\nSpędź an
 drzejkową sobotę w niepowtarzalnych wnętrzach przy Taczaka 10 🔥\n\nS
 tart: 21.00 \nStudenci 10zł\nPozostali: 15 zł\nPo 24:00 20 zł
ATTACH;FMTTYPE=image/jpeg:https://night4u.pl/wp-content/uploads/2019/11/98
 662_image_75594489_790699734693072_3162601586476187648_o.jpg
CATEGORIES:wielkopolskie
LOCATION:Prywatka Poznań\, Taczaka 10\, Poznan\, 61-818\, Poland
GEO:52.40552;16.92082
X-APPLE-STRUCTURED-LOCATION;VALUE=URI;X-ADDRESS=Taczaka 10\, Poznan\, 61-81
 8\, Poland;X-APPLE-RADIUS=100;X-TITLE=Prywatka Poznań:geo:52.40552,16.920
 82
END:VEVENT
BEGIN:VTIMEZONE
TZID:Europe/Warsaw
X-LIC-LOCATION:Europe/Warsaw
BEGIN:STANDARD
DTSTART:20191027T020000
TZOFFSETFROM:+0200
TZOFFSETTO:+0100
TZNAME:CET
END:STANDARD
END:VTIMEZONE
END:VCALENDAR