BEGIN:VCALENDAR
VERSION:2.0
PRODID:-//wp-events-plugin.com//7.2.3.1//EN
TZID:Europe/Warsaw
X-WR-TIMEZONE:Europe/Warsaw
BEGIN:VEVENT
UID:37739@night4u.pl
DTSTART;TZID=Europe/Warsaw:20191129T210000
DTEND;TZID=Europe/Warsaw:20191130T040000
DTSTAMP:20191129T092459Z
URL:https://night4u.pl/wydarzenia/andrzejkowe-oldboys-party-z-markus-p/
SUMMARY:Andrzejkowe Oldboys Party z Markus P
DESCRIPTION:🏁W piątek 29 listopada zapraszamy na ostatnie przed przerw
 ą Andrzejkowe Oldboys Party z Markus P 🎙Taneczne przeboje na 2 parkiet
 ach zmiksują nasi rezydenci Czapsky i Charlie !  💃 🕺Po północy ko
 ncert Markus P  👍 Do zobaczenia!
ATTACH;FMTTYPE=image/jpeg:https://night4u.pl/wp-content/uploads/2019/11/10
 6047_image_77345189_2718568761497468_2800616880866328576_o.jpg
CATEGORIES:łódzkie
LOCATION:Chicago Club\, Broszki 34\, Złoczew\, 98-270\, Poland
GEO:51.383918;18.646609
X-APPLE-STRUCTURED-LOCATION;VALUE=URI;X-ADDRESS=Broszki 34\, Złoczew\, 98-
 270\, Poland;X-APPLE-RADIUS=100;X-TITLE=Chicago Club:geo:51.383918,18.6466
 09
END:VEVENT
BEGIN:VTIMEZONE
TZID:Europe/Warsaw
X-LIC-LOCATION:Europe/Warsaw
BEGIN:STANDARD
DTSTART:20191027T020000
TZOFFSETFROM:+0200
TZOFFSETTO:+0100
TZNAME:CET
END:STANDARD
END:VTIMEZONE
END:VCALENDAR