BEGIN:VCALENDAR
VERSION:2.0
PRODID:-//wp-events-plugin.com//7.2.3.1//EN
TZID:Europe/Warsaw
X-WR-TIMEZONE:Europe/Warsaw
BEGIN:VEVENT
UID:31340@night4u.pl
DTSTART;TZID=Europe/Warsaw:20191215T190000
DTEND;TZID=Europe/Warsaw:20191215T210000
DTSTAMP:20191214T230838Z
URL:https://night4u.pl/wydarzenia/antoni-syrek-dabrowski-kielce-premiera-n
 owego-programu/
SUMMARY:Antoni Syrek-Dąbrowski / Kielce / Premiera nowego programu!
DESCRIPTION:Siema! Stand-up No Limits oraz MASKA Incognito Club zapraszają
  na wieczór stand-up comedy!\n\nNowy program: "Kronika Filmowa"\n\nAntoni
  Syrek-Dąbrowski - komik\, improwizator\, scenarzysta i aktor. Działa na
  scenie komediowej od 2010 roku. Zaczynał jako stand-upper w takich progr
 amach jak: HBO Stand-up Comedy Club\, obu sezonach Comedy Central Prezentu
 je: Stand-up!\, Tylko dla dorosłych w TVP2 oraz Roaście Kuby Wojewódzki
 ego w TVN. Udało mu się również zakwalifikować do anglojęzycznego pr
 ogramu Stand-up Express - kolaboracji komików z całej Europy Wschodniej.
  Poza stand-upem zajmuje się również improwizacją komediową\, której
  uczył się od mistrzów tej formy w teatrze "IO" w Chicago. Improwizuje 
 od ponad czterech lat w teatrze "Hofesinka"\, który co tydzień można og
 lądać na deskach Resortu w Warszawie.\n\n+ Support: Łukasz Kowalski z p
 rogramem "Bakłażan"\n\nBilety: 35zł\,\n45zł w dniu wydarzenia\nhttps:/
 /standupbilety.pl/event/891_antoni-syrek-dbrowski-kielce-premiera-nowego-p
 rogramu\n\nWydarzenie dla dorosłych!!!\n\n* Brak zgody na nagrywanie audi
 o/video.\n* Osoby\, które będą przeszkadzać podczas wydarzenia zostan
 ą wyproszone. Bez zwrotu pieniędzy za bilet.
ATTACH;FMTTYPE=image/jpeg:https://night4u.pl/wp-content/uploads/2019/12/73
 081_image_79367022_1485254548295112_3185638137489522688_n.jpg
CATEGORIES:świętokrzyskie
LOCATION:MASKA Incognito Club\, Rynek 5\, Kielce\, 25-303\, Poland
GEO:50.871945;20.632092
X-APPLE-STRUCTURED-LOCATION;VALUE=URI;X-ADDRESS=Rynek 5\, Kielce\, 25-303\,
  Poland;X-APPLE-RADIUS=100;X-TITLE=MASKA Incognito Club:geo:50.871945,20.6
 32092
END:VEVENT
BEGIN:VTIMEZONE
TZID:Europe/Warsaw
X-LIC-LOCATION:Europe/Warsaw
BEGIN:STANDARD
DTSTART:20191027T020000
TZOFFSETFROM:+0200
TZOFFSETTO:+0100
TZNAME:CET
END:STANDARD
END:VTIMEZONE
END:VCALENDAR