BEGIN:VCALENDAR
VERSION:2.0
PRODID:-//wp-events-plugin.com//7.2.3.1//EN
TZID:Europe/Warsaw
X-WR-TIMEZONE:Europe/Warsaw
BEGIN:VEVENT
UID:33164@night4u.pl
DTSTART;TZID=Europe/Warsaw:20191207T190000
DTEND;TZID=Europe/Warsaw:20191207T210000
DTSTAMP:20191207T192700Z
URL:https://night4u.pl/wydarzenia/antoni-syrek-dabrowski-piotrkow-tryb-pre
 miera-nowego-programu/
SUMMARY:Antoni Syrek-Dąbrowski / Piotrków Tryb /Premiera nowego programu
DESCRIPTION:Siema! Stand-up No Limits oraz Klub Hawana zapraszają na wiecz
 ór stand-up comedy!\n\nNowy program: "Kronika Filmowa"\n\nAntoni Syrek-D
 ąbrowski - komik\, improwizator\, scenarzysta i aktor. Działa na scenie 
 komediowej od 2010 roku. Zaczynał jako stand-upper w takich programach ja
 k: HBO Stand-up Comedy Club\, obu sezonach Comedy Central Prezentuje: Stan
 d-up!\, Tylko dla dorosłych w TVP2 oraz Roaście Kuby Wojewódzkiego w TV
 N. Udało mu się również zakwalifikować do anglojęzycznego programu S
 tand-up Express - kolaboracji komików z całej Europy Wschodniej. Poza st
 and-upem zajmuje się również improwizacją komediową\, której uczył 
 się od mistrzów tej formy w teatrze "IO" w Chicago. Improwizuje od ponad
  czterech lat w teatrze "Hofesinka"\, który co tydzień można oglądać 
 na deskach Resortu w Warszawie.\n\n+ Support: Łukasz Kowalski z programem
  "Bakłażan"\n\nProwadzenie: Adam Sobaniec\n\nBilety: 35zł\,\n45zł w dn
 iu wydarzenia\nhttps://standupbilety.pl/event/886_antoni-syrek-dbrowski-pi
 otrkow-tryb-premiera-nowego-programu\n\nWydarzenie dla dorosłych!!!\n\n* 
 Brak zgody na nagrywanie audio/video.\n* Osoby\, które będą przeszkadza
 ć podczas wydarzenia zostaną wyproszone. Bez zwrotu pieniędzy za bilet.
ATTACH;FMTTYPE=image/jpeg:https://night4u.pl/wp-content/uploads/2019/10/81
 955_image_71655993_1420925471394687_3258501699320414208_o.jpg
CATEGORIES:łódzkie
LOCATION:Klub Hawana\, Narutowicza 9 /13\, Piotrków Trybunalski\, 97-300\,
  Poland
GEO:51.407682;19.689845
X-APPLE-STRUCTURED-LOCATION;VALUE=URI;X-ADDRESS=Narutowicza 9 /13\, Piotrk
 ów Trybunalski\, 97-300\, Poland;X-APPLE-RADIUS=100;X-TITLE=Klub Hawana:g
 eo:51.407682,19.689845
END:VEVENT
BEGIN:VTIMEZONE
TZID:Europe/Warsaw
X-LIC-LOCATION:Europe/Warsaw
BEGIN:STANDARD
DTSTART:20191027T020000
TZOFFSETFROM:+0200
TZOFFSETTO:+0100
TZNAME:CET
END:STANDARD
END:VTIMEZONE
END:VCALENDAR