BEGIN:VCALENDAR
VERSION:2.0
PRODID:-//wp-events-plugin.com//7.2.3.1//EN
TZID:Europe/Warsaw
X-WR-TIMEZONE:Europe/Warsaw
BEGIN:VEVENT
UID:43769@night4u.pl
DTSTART;TZID=Europe/Warsaw:20201011T190000
DTEND;TZID=Europe/Warsaw:20201011T210000
DTSTAMP:20200424T190046Z
URL:https://night4u.pl/wydarzenia/antoni-syrek-dabrowski-radom-kronika-fil
 mowa/
SUMMARY:Antoni Syrek-Dąbrowski / Radom / Kronika Filmowa
DESCRIPTION:Siema!\n\nNowy program: "Kronika Filmowa"\n\n Antoni Syrek-Dąb
 rowski - komik\, improwizator\, scenarzysta i aktor. Działa na scenie kom
 ediowej od 2010 roku. Zaczynał jako stand-upper w takich programach jak: 
 HBO Stand-up Comedy Club\, obu sezonach Comedy Central Prezentuje: Stand-u
 p!\, Tylko dla dorosłych w TVP2 oraz Roaście Kuby Wojewódzkiego w TVN. 
 Udało mu się również zakwalifikować do anglojęzycznego programu Stan
 d-up Express - kolaboracji komików z całej Europy Wschodniej. Poza stand
 -upem zajmuje się również improwizacją komediową\, której uczył si
 ę od mistrzów tej formy w teatrze "IO" w Chicago. Improwizuje od ponad c
 zterech lat w teatrze "Hofesinka"\, który co tydzień można oglądać na
  deskach Resortu w Warszawie.\n\n+ Support: Łukasz Kowalski z programem "
 Bakłażan"\n\nWydarzenie poprowadzi: Rafał Sumowski\n\nCzytaj więcej na
 : https://www.kupbilecik.pl/imprezy/47641/Radom/Antoni+Syrek-D%C4%85browsk
 i/\n\n Bilety: 35zł\, \n            45zł w dniu wydarzenia \n\nWydarzeni
 e dla dorosłych!!! \n\n* Brak zgody na nagrywanie audio/video.\n * Osoby\
 , które będą przeszkadzać podczas wydarzenia zostaną wyproszone bez z
 wrotu pieniędzy za bilet.
ATTACH;FMTTYPE=image/jpeg:https://night4u.pl/wp-content/uploads/2020/01/14
 0475_image_82533180_2955000954551060_7610115379116900352_o.jpg
CATEGORIES:mazowieckie
LOCATION:Sala Koncertowa W Um Radom\, Ul Żeromskiego 53\, Radom\, 26-602\,
  Poland
GEO:51.401524;21.158288
X-APPLE-STRUCTURED-LOCATION;VALUE=URI;X-ADDRESS=Ul Żeromskiego 53\, Radom\
 , 26-602\, Poland;X-APPLE-RADIUS=100;X-TITLE=Sala Koncertowa W Um Radom:ge
 o:51.401524,21.158288
END:VEVENT
BEGIN:VTIMEZONE
TZID:Europe/Warsaw
X-LIC-LOCATION:Europe/Warsaw
BEGIN:DAYLIGHT
DTSTART:20200329T030000
TZOFFSETFROM:+0100
TZOFFSETTO:+0200
TZNAME:CEST
END:DAYLIGHT
END:VTIMEZONE
END:VCALENDAR