BEGIN:VCALENDAR
VERSION:2.0
PRODID:-//wp-events-plugin.com//7.2.3.1//EN
TZID:Europe/Warsaw
X-WR-TIMEZONE:Europe/Warsaw
BEGIN:VEVENT
UID:33318@night4u.pl
DTSTART;TZID=Europe/Warsaw:20191102T180000
DTEND;TZID=Europe/Warsaw:20191103T060000
DTSTAMP:20191102T090552Z
URL:https://night4u.pl/wydarzenia/antraktowe-halloween-w-sobote-02-11-2019
 /
SUMMARY:Antraktowe Halloween w sobotę ( 02.11.2019 ) !
DESCRIPTION:Mamy niezmierną przyjemność zaprosić Państwa na wyjątkow
 ą \, straszną \, krwawą noc pełną szalonej zabawy przy obłędnej muz
 yce lat 70 ' 80 ' 90 ' w wykonaniu najlepszych D.J. ów specjalizujących 
 się w tym rodzaju muzyki nie wątpliwie jakim jest np. D.J. Fresch Marcin
  Kowalski ( znany min. z takich byłych klubów dawno \, dawno temu jak DA
 GOR \, DUBLIN PUB itd ... ) !!!\n\nSerdecznie zapraszamy wszystkie strzygi
  \, wampiry \, duchy \, zombi \, dla gości którzy przyjdą do godziny 22
 :00 welcom drink gratis \, a dla gości przebranych w różne stroje zwią
 zane z tym świętem wejście za FREE !!!\n\nAntrakt Club w Święto Zmar
 łych jest nieczynny - piątek 01.11.2019 \,\n\nw czwartek 31.10.2019 - im
 preza zamknięta \,\n\nw sobotę 02.11.2019 - Halloween - Serdecznie zapra
 szamy
ATTACH;FMTTYPE=image/jpeg:https://night4u.pl/wp-content/uploads/2019/10/82
 543_image_75356899_1342453179263226_1081987448243748864_o.jpg
CATEGORIES:łódzkie
LOCATION:Antrakt Club\, Zachodnia 95\, Łódź\, 90-721\, Poland
GEO:51.772595;19.452709
X-APPLE-STRUCTURED-LOCATION;VALUE=URI;X-ADDRESS=Zachodnia 95\, Łódź\, 90
 -721\, Poland;X-APPLE-RADIUS=100;X-TITLE=Antrakt Club:geo:51.772595,19.452
 709
END:VEVENT
BEGIN:VTIMEZONE
TZID:Europe/Warsaw
X-LIC-LOCATION:Europe/Warsaw
BEGIN:STANDARD
DTSTART:20191027T020000
TZOFFSETFROM:+0200
TZOFFSETTO:+0100
TZNAME:CET
END:STANDARD
END:VTIMEZONE
END:VCALENDAR