BEGIN:VCALENDAR
VERSION:2.0
PRODID:-//wp-events-plugin.com//7.2.3.1//EN
TZID:Europe/Warsaw
X-WR-TIMEZONE:Europe/Warsaw
BEGIN:VEVENT
UID:6419@night4u.pl
DTSTART;TZID=Europe/Warsaw:20190216T220000
DTEND;TZID=Europe/Warsaw:20190216T220000
DTSTAMP:20190205T172115Z
URL:https://night4u.pl/wydarzenia/antywalentynki-dj-qiu-1602/
SUMMARY:ANTYWalentynki :: Dj Qiu :: 16#02
DESCRIPTION:ANTY-WALENTYNKI nie będzie serduszek\, kolorowych misiów i cz
 erwonych różyczek ! Możecie pomarzyć o czekoladkach i innych słodkoś
 ciach ....\n\nMiłość nie ma ale jest alkohol ! \n\nSpodziewajcie się c
 zarnego humoru oraz wysłanników piekieł na barze\, którzy już dobrze 
 zadbają o Wasze spragnione dusze ! \n\nWóda\, gin\,whisky\, agwa będą 
 się lały strumieniami także nie ma\, że nie mówiliśmy ! Przychodzisz
  tu na własną odpowiedzialność ! \n\n:: PROMO :: \n⚠️ Wjazd Free &
  Bar -50% do 23 ❗️\n\n♛MUSIC♛\nDJ QIU - Best House & Party Bangers
 \n------------------------------------------------------------------------
 ---------\n►Start: 22: 00 | Selekcja |\n►Wejście Free do 23 ! \n►Re
 zerwacje: 666 13 14 15
ATTACH;FMTTYPE=image/jpeg:https://night4u.pl/wp-content/uploads/2019/02/18
 952_image_51334884_10155962823772327_2725777084323463168_o.jpg
CATEGORIES:opolskie
LOCATION:Aqarium Music Club\, ul. Franciszkańska 1\, Opole\, 45-021\, Pola
 nd
GEO:50.66778;17.92274
X-APPLE-STRUCTURED-LOCATION;VALUE=URI;X-ADDRESS=ul. Franciszkańska 1\, Opo
 le\, 45-021\, Poland;X-APPLE-RADIUS=100;X-TITLE=Aqarium Music Club:geo:50.
 66778,17.92274
END:VEVENT
BEGIN:VTIMEZONE
TZID:Europe/Warsaw
X-LIC-LOCATION:Europe/Warsaw
BEGIN:STANDARD
DTSTART:20181028T020000
TZOFFSETFROM:+0200
TZOFFSETTO:+0100
TZNAME:CET
END:STANDARD
END:VTIMEZONE
END:VCALENDAR