BEGIN:VCALENDAR
VERSION:2.0
PRODID:-//wp-events-plugin.com//7.2.3.1//EN
TZID:Europe/Warsaw
X-WR-TIMEZONE:Europe/Warsaw
BEGIN:VEVENT
UID:4424@night4u.pl
DTSTART;TZID=Europe/Warsaw:20190216T200000
DTEND;TZID=Europe/Warsaw:20190217T050000
DTSTAMP:20190120T191948Z
URL:https://night4u.pl/wydarzenia/antywalentynki-dla-singli-wypij-za-zdrow
 ie-ex/
SUMMARY:Antywalentynki dla Singli- wypij za zdrowie Ex!
DESCRIPTION:W związku z licznymi wizytami Singli w klubie Pewex postanowil
 iśmy w tym roku zorganizować Antywalentynki- czyli wypij za zdrowie Ex ?
 \nWszyscy\, którzy mają dosyć cukierkowych serduszek\, tandetnych upomi
 nków lub po prostu nie mają z kim spędzić sobotniego walentynkowego wi
 eczoru serdecznie zapraszamy do Pewexu❤️\nBędą  czerwono-czarne drin
 ki\, tańce na barze i nagrody dla najlepiej tańczących Singli:-) \nTego
  dnia za zdrowie Ex będziemy pić w promocyjnych cenach ???\nJak zawsze 
 świetna  muzyka i zabawa do białego rana gwarantowana! ❤️??\nSpecjal
 nie dla Was mamy ofertę pakietów:  Antywalentykowy\, Urodzinowy\, Imieni
 nowy\, Towarzyski ❤️?? \n\nUwaga ‼️\nJeśli chcesz wejść za darm
 o do klubu: \nUdostępnij wydarzenie na swojej tablicy i zaproś do wydarz
 enia minimum 100 osób :) \n\nDress code- klubowa elegancja. \nGdzie? Klub
  Muzyczny Pewex ❣️\nKiedy? 16.02.2019r. \nStart: 20.00\nBilet: 10zł/ 
 osoba\n\n\n☎️ Rezerwacje loży  501-701-434\n? clubpewex@gmail.com\nNa
 rutowicza 28
ATTACH;FMTTYPE=image/jpeg:https://night4u.pl/wp-content/uploads/2019/01/14
 714_image_49949184_1998675520185809_4833364897075036160_n.jpg
CATEGORIES:łódzkie
END:VEVENT
BEGIN:VTIMEZONE
TZID:Europe/Warsaw
X-LIC-LOCATION:Europe/Warsaw
BEGIN:STANDARD
DTSTART:20181028T020000
TZOFFSETFROM:+0200
TZOFFSETTO:+0100
TZNAME:CET
END:STANDARD
END:VTIMEZONE
END:VCALENDAR