BEGIN:VCALENDAR
VERSION:2.0
PRODID:-//wp-events-plugin.com//7.2.3.1//EN
TZID:Europe/Warsaw
X-WR-TIMEZONE:Europe/Warsaw
BEGIN:VEVENT
UID:16357@night4u.pl
DTSTART;TZID=Europe/Warsaw:20190518T220000
DTEND;TZID=Europe/Warsaw:20190519T040000
DTSTAMP:20190516T203721Z
URL:https://night4u.pl/wydarzenia/anuj-friends-its-my-birthday/
SUMMARY:Anuj & Friends: It's my Birthday
DESCRIPTION:Hello Wroclaw\,\nIt''s your Latino-Indian DJ.\n\n18 May is my b
 irthday party and everyone is invited.\n\nSee you all fellas soon.\nCiao.
ATTACH;FMTTYPE=image/jpeg:https://night4u.pl/wp-content/uploads/2019/05/40
 056_image_57028958_659349291204350_7302673609955213312_n.jpg
CATEGORIES:dolnośląskie
LOCATION:Pub Felicità\, Plac Solny\, 16\, Wroclaw\, 50-062\, Poland
GEO:51.10891;17.02948
X-APPLE-STRUCTURED-LOCATION;VALUE=URI;X-ADDRESS=Plac Solny\, 16\, Wroclaw\,
  50-062\, Poland;X-APPLE-RADIUS=100;X-TITLE=Pub Felicità:geo:51.10891,17.
 02948
END:VEVENT
BEGIN:VTIMEZONE
TZID:Europe/Warsaw
X-LIC-LOCATION:Europe/Warsaw
BEGIN:DAYLIGHT
DTSTART:20190331T030000
TZOFFSETFROM:+0100
TZOFFSETTO:+0200
TZNAME:CEST
END:DAYLIGHT
END:VTIMEZONE
END:VCALENDAR